{"text_format":"1","workbook":"xlsx","n_sheets":10,"sheets":["Mode d'emploi","INITIAL","xl_DCF_History","Revision 1","Revision 2","Revision 3","Revision 4","Recapitulatif","Synthese et graphique","nepaseffacer"],"not_rendered":{"charts":6,"images":5,"macros":1,"external_links":0,"defined_names":42,"comments":0,"pivot_tables":0},"unopened":[],"bounds":{"document_bytes":16777216,"sheet_cells":100000,"rows_first":2000,"rows_last":500,"rows_between":2000,"halvings":0,"cell_chars":16384,"cell_head_chars":4096},"cells_cut":0,"cells_raw":0,"read":"whole","date_system":"1900"}

{"sheet":"Mode d'emploi","index":0,"n_rows":31,"n_cols":1,"rows_kept":31,"cut":false,"hidden":false,"merged":[]}
[]
["PSI : mode d'emploi"]
[]
["Dans le tableau, pour aller à la ligne dans une même cellule, faire ALT + entrée"]
[]
["Pour la cotation des échelles, cliquer sur le 0, un menu déroulant apparaît avec un score de 0 à 10"]
[]
["\nA la fin du PSI, ajuster les hauteurs de lignes afin que lors de l'impression, tout le texte soit visible."]
[]
["L'onglet recapitulatif recopie automatiquement toutes les échelles et le contenu saisi dans chaque cellule du PSI initial et des révisions"]
[]
["Pour mettre à jour les données de recopie, cliquer sur le bouton dans l'onglet recapitulatif ( ou si cela ne fonctionne pas = dans l'onglet \"Formules\" (en haut d'excel) puis tout à droite cliquer sur \"calculer maintenant\")"]
[]
["Le nom du coordonateur de parcours, le nom et le prénom de l'usager sont automatiquement recopiés dans chaque onglet."]
[]
["La durée entre chaque revision est calculée automatiquement lorsque la date de passation de la révision est renseignée"]
[]
[]
[]
[]
[]
[]
[]
[]
[]
[]
["Rebelle S., Arnaud I., Melis F. (2018) Plan de suivi individualisé : PSI. Traité de réhabilitation psychosociale, in N. Franck, Issy-les-moulineaux : Elsevier Masson."]
[]
["Pour toute question concernant le PSI : sandrine.rebelle74@gmail.com"]
[]
["Conception informatique de l'outil : J. Callot (CRDP des Glières/ 74800 La Roche sur Foron)"]

{"sheet":"INITIAL","index":1,"n_rows":94,"n_cols":6,"rows_kept":94,"cut":false,"hidden":false,"merged":[[92,2,92,5],[93,2,93,5],[69,5,71,5],[76,3,76,4],[37,0,39,0],[37,2,39,2],[37,5,39,5],[34,0,36,0],[34,2,36,2],[34,5,36,5],[91,3,91,4],[80,3,80,4],[84,3,84,4],[85,3,85,4],[88,3,88,4],[77,0,79,0],[77,2,79,2],[77,3,77,4],[77,5,79,5],[60,0,62,0],[60,2,62,2],[60,3,60,4],[60,5,62,5],[69,0,71,0],[69,2,71,2],[69,3,69,4],[31,3,31,4],[17,0,19,0],[17,2,19,2],[17,5,19,5],[20,0,22,0],[27,0,29,0],[20,2,22,2],[23,0,26,0],[23,2,26,2],[23,5,26,5],[31,0,33,0],[31,2,33,2],[31,5,33,5],[18,1,19,1],[46,3,46,4],[20,3,20,4],[17,3,17,4],[46,5,48,5],[20,5,22,5],[30,3,30,4],[37,3,37,4],[34,3,34,4],[46,0,48,0],[46,2,48,2],[40,3,40,4],[43,3,43,4],[8,0,9,0],[8,2,9,2],[8,5,9,5],[11,0,13,0],[11,2,13,2],[11,5,13,5],[14,0,16,0],[14,2,16,2],[14,5,16,5],[8,3,9,4],[12,1,13,1],[15,1,16,1],[14,3,14,4],[11,3,11,4],[10,3,10,4],[27,3,27,4],[63,0,65,0],[63,2,65,2],[63,5,65,5],[40,0,42,0],[88,0,90,0],[88,2,90,2],[88,5,90,5],[81,0,83,0],[81,2,83,2],[81,5,83,5],[85,0,87,0],[85,2,87,2],[85,5,87,5],[81,3,81,4],[40,2,42,2],[40,5,42,5],[43,0,45,0],[43,2,45,2],[43,5,45,5],[49,0,51,0],[49,2,51,2],[49,5,51,5],[72,3,72,4],[49,3,49,4],[73,0,75,0],[73,2,75,2],[73,3,73,4],[73,5,75,5],[0,0,0,5],[5,2,5,5],[23,3,24,4],[2,1,2,2],[5,0,5,1],[66,0,68,0],[66,2,68,2],[66,5,68,5],[63,3,63,4],[66,3,66,4],[53,0,55,0],[53,2,55,2],[53,5,55,5],[57,0,59,0],[57,2,59,2],[57,5,59,5],[53,3,53,4],[27,2,29,2],[27,5,29,5],[57,3,57,4]]}
["PLAN DE SUIVI INDIVIDUALISÉ - INITIAL"]
[null,null,null,"Nom :"]
["Coordinateur : ",null,null,"Prénom :"]
["Médecin :   ",null,null,"Date :",null,"renseigner la date = JJ/MM/AAAA"]
[]
["Motivation initiale : "]
[]
[]
["Domaines",null,"Situation actuelle","Situation espérée (Objectifs)",null,"Moyens proposés"]
[]
["HABILETES VIE QUOTIDIENNE","Score"]
["Lieu de vie \nScore échelle 1  : ",0]
[null,null,null,"Ressources","Freins"]
[]
["Entretien logement \nScore échelle 2 : ",0]
[null,null,null,"Ressources","Freins"]
[]
["Nutrition\n\n"]
[null,null,null,"Ressources","Freins"]
[]
["Hygiène personnelle\n "]
[null,null,null,"Ressources","Freins"]
[]
["Gestion de l’argent et des papiers\nScore échelle 3 :\nScore échelle 4: ",0]
[null,0]
[null,null,null,"Ressources","Freins"]
[]
["Déplacements\nScore échelle 5:",0]
[null,null,null,"Ressources","Freins"]
[]
["SANTE"]
["Gestion de la santé\nScore échelle 6 :",0]
[null,null,null,"Ressources","Freins"]
[]
["Diagnostic\n"]
[null,null,null,"Ressources","Freins"]
[]
["Symptômes/signes cliniques\nScore échelle 7 :",0]
[null,null,null,"Ressources","Freins"]
[]
["Traitements\n"]
[null,null,null,"Ressources","Freins"]
[]
["Effets secondaires\n"]
[null,null,null,"Ressources","Freins"]
["Effets secondaires"]
["Sommeil "]
[null,null,null,"Ressources","Freins"]
[]
["Toxiques\n"]
[null,null,null,"Ressources","Freins"]
[]
["FONCTIONNEMENT COGNITIF"]
["Fonctionnement cognitif\nScore échelle 8 : ",0]
[null,null,null,"Ressources","Freins"]
[]
["RELATIONS INTERPERSONNELLES"]
["Relations sociales\nScore échelle 9 :",0]
[null,null,null,"Ressources","Freins"]
[]
["Relations amicales\nScore échelle 10 :",0]
[null,null,null,"Ressources","Freins"]
[]
["Relations sentimentales\nScore échelle 11 :",0]
[null,null,null,"Ressources","Freins"]
[]
["Relations familiales\nScore échelle 12 :",0]
[null,null,null,"Ressources","Freins"]
[]
["Relations professionnelles/scolaires\nScore échelle 13 :",0]
[null,null,null,"Ressources","Freins"]
[]
["SEXUALITE"]
["Sexualité\n"]
[null,null,null,"Ressources","Freins"]
[]
["SPIRITUALITE"]
["Spiritualité\n"]
[null,null,null,"Ressources","Freins"]
[]
["LOISIRS "]
["Loisirs\nScore échelle 14 :",0]
[null,null,null,"Ressources","Freins"]
[]
["FORMATIONS ET EMPLOIS"]
["Formations et diplômes\nScore échelle 15 :",0]
[null,null,null,"Ressources","Freins"]
[]
["Emploi\nScore échelle 16 :",0]
[null,null,null,"Ressources","Freins"]
[]
["Ressenti et utilité de l'entretien"]
["Score échelle 17 : ressenti",0]
["Score échelle 18 : utilité",0]

{"sheet":"xl_DCF_History","index":2,"n_rows":2,"n_cols":7,"rows_kept":2,"cut":false,"hidden":true,"merged":[]}
["CLINAME","DATETIME","DONEBY","IPADDRESS","APPVER","RANDOM","CHECKSUM"]
["ൟ൸്൶൫ൽൽ൳൰൳൯൮","ീഹ഻ിഹ഼ഺ഻ിപപ഻ഺൄാുോൗപല൑ൗ൞വ഼ൄഺള","൝൞൦്൫൸൸൫ൾ൶","൑൘ൌാഺ഼ുഽാ","ാസഺസ഼സഺ",10,"ാ഻ിൃ"]

{"sheet":"Revision 1","index":3,"n_rows":94,"n_cols":6,"rows_kept":94,"cut":false,"hidden":false,"merged":[[92,2,92,5],[93,2,93,5],[0,0,0,5],[8,5,9,5],[10,3,10,4],[11,0,13,0],[11,2,13,2],[11,3,11,4],[11,5,13,5],[12,1,13,1],[2,1,2,2],[8,0,9,0],[8,2,9,2],[8,3,9,4],[20,0,22,0],[20,2,22,2],[20,3,20,4],[20,5,22,5],[23,0,26,0],[23,2,26,2],[23,3,24,4],[23,5,26,5],[14,0,16,0],[14,2,16,2],[14,3,14,4],[14,5,16,5],[15,1,16,1],[17,0,19,0],[17,2,19,2],[17,3,17,4],[17,5,19,5],[18,1,19,1],[27,0,29,0],[27,2,29,2],[27,3,27,4],[27,5,29,5],[30,3,30,4],[31,0,33,0],[31,2,33,2],[31,3,31,4],[31,5,33,5],[40,0,42,0],[40,2,42,2],[40,3,40,4],[40,5,42,5],[43,0,45,0],[43,2,45,2],[43,3,43,4],[43,5,45,5],[34,0,36,0],[34,2,36,2],[34,3,34,4],[34,5,36,5],[37,0,39,0],[37,2,39,2],[37,3,37,4],[37,5,39,5],[53,0,55,0],[53,2,55,2],[53,3,53,4],[53,5,55,5],[57,0,59,0],[57,2,59,2],[57,3,57,4],[57,5,59,5],[46,0,48,0],[46,2,48,2],[46,3,46,4],[46,5,48,5],[49,0,51,0],[49,2,51,2],[49,3,49,4],[49,5,51,5],[69,5,71,5],[60,0,62,0],[60,2,62,2],[60,3,60,4],[60,5,62,5],[63,0,65,0],[63,2,65,2],[63,3,63,4],[63,5,65,5],[91,3,91,4],[81,0,83,0],[81,2,83,2],[81,3,81,4],[81,5,83,5],[84,3,84,4],[85,0,87,0],[85,2,87,2],[85,3,85,4],[85,5,87,5],[72,3,72,4],[73,0,75,0],[73,2,75,2],[73,3,73,4],[73,5,75,5],[5,1,5,5],[6,1,6,5],[88,0,90,0],[88,2,90,2],[88,3,88,4],[88,5,90,5],[76,3,76,4],[77,0,79,0],[77,2,79,2],[77,3,77,4],[77,5,79,5],[80,3,80,4],[66,0,68,0],[66,2,68,2],[66,3,66,4],[66,5,68,5],[69,0,71,0],[69,2,71,2],[69,3,69,4]]}
["PLAN DE SUIVI INDIVIDUALISÉ - Révision 1"]
[{"$f":"TODAY()","v":"2019-12-20"},null,null,"Nom :",{"$f":"INITIAL!E2","v":0}]
["Coordinateur : ",{"$f":"INITIAL!B3","v":0},null,"Prénom :",{"$f":"INITIAL!E3","v":0}]
[null,{"$f":"DATEDIF(INITIAL!E4,E4,\"d\")","v":0},"jours","Date :",null,"renseigner la date = JJ/MM/AAAA"]
[null,{"$f":"B4/7","v":0},"semaines"]
[null,{"$f":"INITIAL!C6","v":0}]
["Motivation revision : "]
[]
["Domaines",null,"Situation actuelle","Situation espérée (Objectifs)",null,"Moyens proposés"]
[]
["HABILETES VIE QUOTIDIENNE","Score"]
["Lieu de vie \nScore échelle 1  : ",0]
[null,null,null,"Ressources","Freins"]
[]
["Entretien logement \nScore échelle 2 : ",0]
[null,null,null,"Ressources","Freins"]
[]
["Nutrition\n\n"]
[null,null,null,"Ressources","Freins"]
[]
["Hygiène personnelle\n "]
[null,null,null,"Ressources","Freins"]
[]
["Gestion de l’argent et des papiers\nScore échelle 3 :\nScore échelle 4: ",0]
[null,0]
[null,null,null,"Ressources","Freins"]
[]
["Déplacements\nScore échelle 5:",0]
[null,null,null,"Ressources","Freins"]
[]
["SANTE"]
["Gestion de la santé\nScore échelle 6 :",0]
[null,null,null,"Ressources","Freins"]
[]
["Diagnostic\n"]
[null,null,null,"Ressources","Freins"]
[]
["Symptômes/signes cliniques\nScore échelle 7 :",0]
[null,null,null,"Ressources","Freins"]
[]
["Traitements\n"]
[null,null,null,"Ressources","Freins"]
[]
["Effets secondaires\n"]
[null,null,null,"Ressources","Freins"]
["Effets secondaires"]
["Sommeil "]
[null,null,null,"Ressources","Freins"]
[]
["Toxiques\n"]
[null,null,null,"Ressources","Freins"]
[]
["FONCTIONNEMENT COGNITIF"]
["Fonctionnement cognitif\nScore échelle 8 : ",0]
[null,null,null,"Ressources","Freins"]
[]
["RELATIONS INTERPERSONNELLES"]
["Relations sociales\nScore échelle 9 :",0]
[null,null,null,"Ressources","Freins"]
[]
["Relations amicales\nScore échelle 10:",0]
[null,null,null,"Ressources","Freins"]
[]
["Relations sentimentales\nScore échelle 11:",0]
[null,null,null,"Ressources","Freins"]
[]
["Relations familiales\nScore échelle 12 :",0]
[null,null,null,"Ressources","Freins"]
[]
["Relations professionnelles/scolaires\nScore échelle 13:",0]
[null,null,null,"Ressources","Freins"]
[]
["SEXUALITE"]
["Sexualité\n"]
[null,null,null,"Ressources","Freins"]
[]
["SPIRITUALITE"]
["Spiritualité\n"]
[null,null,null,"Ressources","Freins"]
[]
["LOISIRS "]
["Loisirs\nScore échelle 14 :",0]
[null,null,null,"Ressources","Freins"]
[]
["FORMATIONS ET EMPLOIS"]
["Formations et diplômes\nScore échelle 15 :",0]
[null,null,null,"Ressources","Freins"]
[]
["Emploi\nScore échelle 16 :",0]
[null,null,null,"Ressources","Freins"]
[]
["Ressenti et utilité de l'entretien"]
["Score échelle 17 : ressenti",0]
["Score échelle 18 : utilité",0]

{"sheet":"Revision 2","index":4,"n_rows":95,"n_cols":6,"rows_kept":95,"cut":false,"hidden":false,"merged":[[93,2,93,5],[94,2,94,5],[11,3,11,4],[12,0,14,0],[12,2,14,2],[12,3,12,4],[12,5,14,5],[13,1,14,1],[0,0,0,5],[2,1,2,2],[5,1,5,5],[6,1,6,5],[9,0,10,0],[9,2,10,2],[9,3,10,4],[9,5,10,5],[21,0,23,0],[21,2,23,2],[21,3,21,4],[21,5,23,5],[24,0,27,0],[24,2,27,2],[24,3,25,4],[24,5,27,5],[15,0,17,0],[15,2,17,2],[15,3,15,4],[15,5,17,5],[16,1,17,1],[18,0,20,0],[18,2,20,2],[18,3,18,4],[18,5,20,5],[19,1,20,1],[35,0,37,0],[35,2,37,2],[35,3,35,4],[35,5,37,5],[38,0,40,0],[38,2,40,2],[38,3,38,4],[38,5,40,5],[28,0,30,0],[28,2,30,2],[28,3,28,4],[28,5,30,5],[31,3,31,4],[32,0,34,0],[32,2,34,2],[32,3,32,4],[32,5,34,5],[47,0,49,0],[47,2,49,2],[47,3,47,4],[47,5,49,5],[50,0,52,0],[50,2,52,2],[50,3,50,4],[50,5,52,5],[41,0,43,0],[41,2,43,2],[41,3,41,4],[41,5,43,5],[44,0,46,0],[44,2,46,2],[44,3,44,4],[44,5,46,5],[61,0,63,0],[61,2,63,2],[61,3,61,4],[61,5,63,5],[64,0,66,0],[64,2,66,2],[64,3,64,4],[64,5,66,5],[54,0,56,0],[54,2,56,2],[54,3,54,4],[54,5,56,5],[58,0,60,0],[58,2,60,2],[58,3,58,4],[58,5,60,5],[92,3,92,4],[82,0,84,0],[82,2,84,2],[82,3,82,4],[82,5,84,5],[85,3,85,4],[86,0,88,0],[86,2,88,2],[86,3,86,4],[86,5,88,5],[73,3,73,4],[74,0,76,0],[74,2,76,2],[74,3,74,4],[74,5,76,5],[7,1,7,5],[89,0,91,0],[89,2,91,2],[89,3,89,4],[89,5,91,5],[77,3,77,4],[78,0,80,0],[78,2,80,2],[78,3,78,4],[78,5,80,5],[81,3,81,4],[67,0,69,0],[67,2,69,2],[67,3,67,4],[67,5,69,5],[70,0,72,0],[70,2,72,2],[70,3,70,4],[70,5,72,5]]}
["PLAN DE SUIVI INDIVIDUALISÉ - Révision 2"]
[{"$f":"TODAY()","v":"2019-12-20"},null,null,"Nom :",{"$f":"INITIAL!E2","v":0}]
["Coordinateur : ",{"$f":"INITIAL!B3","v":0},null,"Prénom :",{"$f":"INITIAL!E3","v":0}]
[null,{"$f":"DATEDIF('Revision 1'!E4,E4,\"d\")","v":0},"jours","Date :",null,"renseigner la date = JJ/MM/AAAA"]
[null,{"$f":"B4/7","v":0},"semaines"]
[null,{"$f":"INITIAL!C6","v":0}]
[null,{"$f":"'Revision 1'!B7:F7","v":0}]
["Motivation revision : "]
[]
["Domaines",null,"Situation actuelle","Situation espérée (Objectifs)",null,"Moyens proposés"]
[]
["HABILETES VIE QUOTIDIENNE","Score"]
["Lieu de vie \nScore échelle 1: ",0]
[null,null,null,"Ressources","Freins"]
[]
["Entretien logement \nScore échelle 2 : ",0]
[null,null,null,"Ressources","Freins"]
[]
["Nutrition\n\n"]
[null,null,null,"Ressources","Freins"]
[]
["Hygiène personnelle\n "]
[null,null,null,"Ressources","Freins"]
[]
["Gestion de l’argent et des papiers\nScore échelle 3:\nScore échelle 4: ",0]
[null,0]
[null,null,null,"Ressources","Freins"]
[]
["Déplacements\nScore échelle 5:",0]
[null,null,null,"Ressources","Freins"]
[]
["SANTE"]
["Gestion de la santé\nScore échelle 6:",0]
[null,null,null,"Ressources","Freins"]
[]
["Diagnostic\n"]
[null,null,null,"Ressources","Freins"]
[]
["Symptômes/signes cliniques\nScore échelle 7:",0]
[null,null,null,"Ressources","Freins"]
[]
["Traitements\n"]
[null,null,null,"Ressources","Freins"]
[]
["Effets secondaires\n"]
[null,null,null,"Ressources","Freins"]
["Effets secondaires"]
["Sommeil "]
[null,null,null,"Ressources","Freins"]
[]
["Toxiques\n"]
[null,null,null,"Ressources","Freins"]
[]
["FONCTIONNEMENT COGNITIF"]
["Fonctionnement cognitif\nScore échelle 8: ",0]
[null,null,null,"Ressources","Freins"]
[]
["RELATIONS INTERPERSONNELLES"]
["Relations sociales\nScore échelle 9:",0]
[null,null,null,"Ressources","Freins"]
[]
["Relations amicales\nScore échelle 10:",0]
[null,null,null,"Ressources","Freins"]
[]
["Relations sentimentales\nScore échelle 11 :",0]
[null,null,null,"Ressources","Freins"]
[]
["Relations familiales\nScore échelle 12:",0]
[null,null,null,"Ressources","Freins"]
[]
["Relations professionnelles/scolaires\nScore échelle 13:",0]
[null,null,null,"Ressources","Freins"]
[]
["SEXUALITE"]
["Sexualité\n"]
[null,null,null,"Ressources","Freins"]
[]
["SPIRITUALITE"]
["Spiritualité\n"]
[null,null,null,"Ressources","Freins"]
[]
["LOISIRS "]
["Loisirs\nScore échelle 14:",0]
[null,null,null,"Ressources","Freins"]
[]
["FORMATIONS ET EMPLOIS"]
["Formations et diplômes\nScore échelle 15:",0]
[null,null,null,"Ressources","Freins"]
[]
["Emploi\nScore échelle 16:",0]
[null,null,null,"Ressources","Freins"]
[]
["Ressenti et utilité de l'entretien"]
["Score échelle 17: ressenti",0]
["Score échelle 18: utilité",0]

{"sheet":"Revision 3","index":5,"n_rows":96,"n_cols":6,"rows_kept":96,"cut":false,"hidden":false,"merged":[[94,2,94,5],[95,2,95,5],[12,3,12,4],[13,0,15,0],[13,2,15,2],[13,3,13,4],[13,5,15,5],[14,1,15,1],[0,0,0,5],[2,1,2,2],[5,1,5,5],[6,1,6,5],[7,1,7,5],[10,0,11,0],[10,2,11,2],[10,3,11,4],[10,5,11,5],[22,0,24,0],[22,2,24,2],[22,3,22,4],[22,5,24,5],[25,0,28,0],[25,2,28,2],[25,3,26,4],[25,5,28,5],[16,0,18,0],[16,2,18,2],[16,3,16,4],[16,5,18,5],[17,1,18,1],[19,0,21,0],[19,2,21,2],[19,3,19,4],[19,5,21,5],[20,1,21,1],[36,0,38,0],[36,2,38,2],[36,3,36,4],[36,5,38,5],[39,0,41,0],[39,2,41,2],[39,3,39,4],[39,5,41,5],[29,0,31,0],[29,2,31,2],[29,3,29,4],[29,5,31,5],[32,3,32,4],[33,0,35,0],[33,2,35,2],[33,3,33,4],[33,5,35,5],[48,0,50,0],[48,2,50,2],[48,3,48,4],[48,5,50,5],[51,0,53,0],[51,2,53,2],[51,3,51,4],[51,5,53,5],[42,0,44,0],[42,2,44,2],[42,3,42,4],[42,5,44,5],[45,0,47,0],[45,2,47,2],[45,3,45,4],[45,5,47,5],[62,0,64,0],[62,2,64,2],[62,3,62,4],[62,5,64,5],[65,0,67,0],[65,2,67,2],[65,3,65,4],[65,5,67,5],[55,0,57,0],[55,2,57,2],[55,3,55,4],[55,5,57,5],[59,0,61,0],[59,2,61,2],[59,3,59,4],[59,5,61,5],[93,3,93,4],[83,0,85,0],[83,2,85,2],[83,3,83,4],[83,5,85,5],[86,3,86,4],[87,0,89,0],[87,2,89,2],[87,3,87,4],[87,5,89,5],[74,3,74,4],[75,0,77,0],[75,2,77,2],[75,3,75,4],[75,5,77,5],[8,1,8,5],[90,0,92,0],[90,2,92,2],[90,3,90,4],[90,5,92,5],[78,3,78,4],[79,0,81,0],[79,2,81,2],[79,3,79,4],[79,5,81,5],[82,3,82,4],[68,0,70,0],[68,2,70,2],[68,3,68,4],[68,5,70,5],[71,0,73,0],[71,2,73,2],[71,3,71,4],[71,5,73,5]]}
["PLAN DE SUIVI INDIVIDUALISÉ - Révision 3"]
[{"$f":"TODAY()","v":"2019-12-20"},null,null,"Nom :",{"$f":"INITIAL!E2","v":0}]
["Coordinateur : ",{"$f":"INITIAL!B3","v":0},null,"Prénom :",{"$f":"INITIAL!E3","v":0}]
[null,{"$f":"DATEDIF('Revision 2'!E4,E4,\"d\")","v":0},"jours","Date :",null,"renseigner la date = JJ/MM/AAAA"]
[null,{"$f":"B4/7","v":0},"semaines"]
[null,{"$f":"INITIAL!C6","v":0}]
[null,{"$f":"'Revision 1'!B7:F7","v":0}]
[null,{"$f":"'Revision 2'!B8:F8","v":0}]
["Motivation revision : "]
[]
["Domaines",null,"Situation actuelle","Situation espérée (Objectifs)",null,"Moyens proposés"]
[]
["HABILETES VIE QUOTIDIENNE","Score"]
["Lieu de vie \nScore échelle 1  : ",0]
[null,null,null,"Ressources","Freins"]
[]
["Entretien logement \nScore échelle 2 : ",0]
[null,null,null,"Ressources","Freins"]
[]
["Nutrition\n\n"]
[null,null,null,"Ressources","Freins"]
[]
["Hygiène personnelle\n "]
[null,null,null,"Ressources","Freins"]
[]
["Gestion de l’argent et des papiers\nScore échelle 3 :\nScore échelle 4: ",0]
[null,0]
[null,null,null,"Ressources","Freins"]
[]
["Déplacements\nScore échelle 5:",0]
[null,null,null,"Ressources","Freins"]
[]
["SANTE"]
["Gestion de la santé\nScore échelle 6 :",0]
[null,null,null,"Ressources","Freins"]
[]
["Diagnostic\n"]
[null,null,null,"Ressources","Freins"]
[]
["Symptômes/signes cliniques\nScore échelle 7 :",0]
[null,null,null,"Ressources","Freins"]
[]
["Traitements\n"]
[null,null,null,"Ressources","Freins"]
[]
["Effets secondaires\n"]
[null,null,null,"Ressources","Freins"]
["Effets secondaires"]
["Sommeil "]
[null,null,null,"Ressources","Freins"]
[]
["Toxiques\n"]
[null,null,null,"Ressources","Freins"]
[]
["FONCTIONNEMENT COGNITIF"]
["Fonctionnement cognitif\nScore échelle 8 : ",0]
[null,null,null,"Ressources","Freins"]
[]
["RELATIONS INTERPERSONNELLES"]
["Relations sociales\nScore échelle 9 :",0]
[null,null,null,"Ressources","Freins"]
[]
["Relations amicales\nScore échelle 10 :",0]
[null,null,null,"Ressources","Freins"]
[]
["Relations sentimentales\nScore échelle 11 :",0]
[null,null,null,"Ressources","Freins"]
[]
["Relations familiales\nScore échelle 12 :",0]
[null,null,null,"Ressources","Freins"]
[]
["Relations professionnelles/scolaires\nScore échelle 13 :",0]
[null,null,null,"Ressources","Freins"]
[]
["SEXUALITE"]
["Sexualité\n"]
[null,null,null,"Ressources","Freins"]
[]
["SPIRITUALITE"]
["Spiritualité\n"]
[null,null,null,"Ressources","Freins"]
[]
["LOISIRS "]
["Loisirs\nScore échelle 14 :",0]
[null,null,null,"Ressources","Freins"]
[]
["FORMATIONS ET EMPLOIS"]
["Formations et diplômes\nScore échelle 15 :",0]
[null,null,null,"Ressources","Freins"]
[]
["Emploi\nScore échelle 16 :",0]
[null,null,null,"Ressources","Freins"]
[]
["Ressenti et utilité de l'entretien"]
["Score échelle 17 : ressenti",0]
["Score échelle 18 : utilité",0]

{"sheet":"Revision 4","index":6,"n_rows":97,"n_cols":6,"rows_kept":97,"cut":false,"hidden":false,"merged":[[95,2,95,5],[96,2,96,5],[0,0,0,5],[2,1,2,2],[5,1,5,5],[6,1,6,5],[7,1,7,5],[8,1,8,5],[11,0,12,0],[11,2,12,2],[11,3,12,4],[11,5,12,5],[13,3,13,4],[14,0,16,0],[14,2,16,2],[14,3,14,4],[14,5,16,5],[15,1,16,1],[23,0,25,0],[23,2,25,2],[23,3,23,4],[23,5,25,5],[26,0,29,0],[26,2,29,2],[26,3,27,4],[26,5,29,5],[17,0,19,0],[17,2,19,2],[17,3,17,4],[17,5,19,5],[18,1,19,1],[20,0,22,0],[20,2,22,2],[20,3,20,4],[20,5,22,5],[21,1,22,1],[37,0,39,0],[37,2,39,2],[37,3,37,4],[37,5,39,5],[40,0,42,0],[40,2,42,2],[40,3,40,4],[40,5,42,5],[30,0,32,0],[30,2,32,2],[30,3,30,4],[30,5,32,5],[33,3,33,4],[34,0,36,0],[34,2,36,2],[34,3,34,4],[34,5,36,5],[49,0,51,0],[49,2,51,2],[49,3,49,4],[49,5,51,5],[52,0,54,0],[52,2,54,2],[52,3,52,4],[52,5,54,5],[43,0,45,0],[43,2,45,2],[43,3,43,4],[43,5,45,5],[46,0,48,0],[46,2,48,2],[46,3,46,4],[46,5,48,5],[63,0,65,0],[63,2,65,2],[63,3,63,4],[63,5,65,5],[66,0,68,0],[66,2,68,2],[66,3,66,4],[66,5,68,5],[56,0,58,0],[56,2,58,2],[56,3,56,4],[56,5,58,5],[60,0,62,0],[60,2,62,2],[60,3,60,4],[60,5,62,5],[94,3,94,4],[84,0,86,0],[84,2,86,2],[84,3,84,4],[84,5,86,5],[87,3,87,4],[88,0,90,0],[88,2,90,2],[88,3,88,4],[88,5,90,5],[75,3,75,4],[76,0,78,0],[76,2,78,2],[76,3,76,4],[76,5,78,5],[9,1,9,5],[91,0,93,0],[91,2,93,2],[91,3,91,4],[91,5,93,5],[79,3,79,4],[80,0,82,0],[80,2,82,2],[80,3,80,4],[80,5,82,5],[83,3,83,4],[69,0,71,0],[69,2,71,2],[69,3,69,4],[69,5,71,5],[72,0,74,0],[72,2,74,2],[72,3,72,4],[72,5,74,5]]}
["PLAN DE SUIVI INDIVIDUALISÉ - Révision 4"]
[{"$f":"TODAY()","v":"2019-12-20"},null,null,"Nom :",{"$f":"INITIAL!E2","v":0}]
["Coordinateur : ",{"$f":"INITIAL!B3","v":0},null,"Prénom :",{"$f":"INITIAL!E3","v":0}]
[null,{"$f":"DATEDIF('Revision 3'!E4,E4,\"d\")","v":0},"jours","Date :",null,"renseigner la date = JJ/MM/AAAA"]
[null,{"$f":"B4/7","v":0},"semaines"]
[null,{"$f":"INITIAL!C6","v":0}]
[null,{"$f":"'Revision 1'!B7:F7","v":0}]
[null,{"$f":"'Revision 2'!B8:F8","v":0}]
[null,{"$f":"'Revision 3'!B9:F9","v":0}]
["Motivation revision : "]
[]
["Domaines",null,"Situation actuelle","Situation espérée (Objectifs)",null,"Moyens proposés"]
[]
["HABILETES VIE QUOTIDIENNE","Score"]
["Lieu de vie \nScore échelle 1  : ",0]
[null,null,null,"Ressources","Freins"]
[]
["Entretien logement \nScore échelle 2 : ",0]
[null,null,null,"Ressources","Freins"]
[]
["Nutrition\n\n"]
[null,null,null,"Ressources","Freins"]
[]
["Hygiène personnelle\n "]
[null,null,null,"Ressources","Freins"]
[]
["Gestion de l’argent et des papiers\nScore échelle 3 :\nScore échelle 4: ",0]
[null,0]
[null,null,null,"Ressources","Freins"]
[]
["Déplacements\nScore échelle 5:",0]
[null,null,null,"Ressources","Freins"]
[]
["SANTE"]
["Gestion de la santé\nScore échelle 6 :",0]
[null,null,null,"Ressources","Freins"]
[]
["Diagnostic\n"]
[null,null,null,"Ressources","Freins"]
[]
["Symptômes/signes cliniques\nScore échelle 7 :",0]
[null,null,null,"Ressources","Freins"]
[]
["Traitements\n"]
[null,null,null,"Ressources","Freins"]
[]
["Effets secondaires\n"]
[null,null,null,"Ressources","Freins"]
["Effets secondaires"]
["Sommeil "]
[null,null,null,"Ressources","Freins"]
[]
["Toxiques\n"]
[null,null,null,"Ressources","Freins"]
[]
["FONCTIONNEMENT COGNITIF"]
["Fonctionnement cognitif\nScore échelle 8 : ",0]
[null,null,null,"Ressources","Freins"]
[]
["RELATIONS INTERPERSONNELLES"]
["Relations sociales\nScore échelle 9 :",0]
[null,null,null,"Ressources","Freins"]
[]
["Relations amicales\nScore échelle 10 :",0]
[null,null,null,"Ressources","Freins"]
[]
["Relations sentimentales\nScore échelle 11 :",0]
[null,null,null,"Ressources","Freins"]
[]
["Relations familiales\nScore échelle 12 :",0]
[null,null,null,"Ressources","Freins"]
[]
["Relations professionnelles/scolaires\nScore échelle 13 :",0]
[null,null,null,"Ressources","Freins"]
[]
["SEXUALITE"]
["Sexualité\n"]
[null,null,null,"Ressources","Freins"]
[]
["SPIRITUALITE"]
["Spiritualité\n"]
[null,null,null,"Ressources","Freins"]
[]
["LOISIRS "]
["Loisirs\nScore échelle 14 :",0]
[null,null,null,"Ressources","Freins"]
[]
["FORMATIONS ET EMPLOIS"]
["Formations et diplômes\nScore échelle 15 :",0]
[null,null,null,"Ressources","Freins"]
[]
["Emploi\nScore échelle 16 :",0]
[null,null,null,"Ressources","Freins"]
[]
["Ressenti et utilité de l'entretien"]
["Score échelle 17 : ressenti",0]
["Score échelle 18 : utilité",0]

{"sheet":"Recapitulatif","index":7,"n_rows":423,"n_cols":7,"rows_kept":423,"cut":false,"hidden":false,"merged":[[422,2,422,5],[377,1,377,5],[360,1,360,5],[343,1,343,5],[245,1,245,5],[228,1,228,5],[115,1,115,5],[402,1,403,1],[405,1,406,1],[408,1,409,1],[380,1,381,1],[383,1,384,1],[386,1,387,1],[389,1,390,1],[392,1,393,1],[358,1,359,1],[344,0,344,5],[361,0,361,5],[371,0,373,0],[371,2,373,2],[371,3,371,4],[371,5,373,5],[368,0,370,0],[398,0,400,0],[415,2,415,5],[416,2,416,5],[410,0,410,5],[398,2,400,2],[398,3,398,4],[398,5,400,5],[395,0,397,0],[395,2,397,2],[395,3,395,4],[395,5,397,5],[396,1,397,1],[399,1,400,1],[391,2,393,2],[391,3,391,4],[382,3,382,4],[418,2,418,5],[419,2,419,5],[420,2,420,5],[421,2,421,5],[404,0,406,0],[404,2,406,2],[404,3,404,4],[404,5,406,5],[401,0,403,0],[401,2,403,2],[401,3,401,4],[401,5,403,5],[407,0,409,0],[407,2,409,2],[407,3,407,4],[411,0,411,5],[417,0,417,5],[407,5,409,5],[412,2,412,5],[413,2,413,5],[414,2,414,5],[354,5,356,5],[351,0,353,0],[351,2,353,2],[351,3,351,4],[351,5,353,5],[394,0,394,5],[378,0,378,5],[388,0,390,0],[388,2,390,2],[388,3,388,4],[388,5,390,5],[385,0,387,0],[385,2,387,2],[385,3,385,4],[385,5,387,5],[382,0,384,0],[382,2,384,2],[382,5,384,5],[379,0,381,0],[379,2,381,2],[379,5,381,5],[379,3,379,4],[391,5,393,5],[391,0,393,0],[368,5,370,5],[365,0,367,0],[365,2,367,2],[365,3,365,4],[365,5,367,5],[362,0,364,0],[362,2,364,2],[362,3,362,4],[362,5,364,5],[363,1,364,1],[366,1,367,1],[369,1,370,1],[368,2,370,2],[348,5,350,5],[305,1,306,1],[308,1,309,1],[320,0,322,0],[320,2,322,2],[320,3,320,4],[320,5,322,5],[317,0,319,0],[317,2,319,2],[317,3,317,4],[317,5,319,5],[314,0,316,0],[314,2,316,2],[314,3,314,4],[314,5,316,5],[311,0,313,0],[311,2,313,2],[311,3,311,4],[311,5,313,5],[312,1,313,1],[315,1,316,1],[345,5,347,5],[346,1,347,1],[349,1,350,1],[318,1,319,1],[321,1,322,1],[298,3,298,4],[298,5,300,5],[295,0,297,0],[295,2,297,2],[295,3,295,4],[295,5,297,5],[296,1,297,1],[299,1,300,1],[302,1,303,1],[280,1,281,1],[283,1,284,1],[276,1,277,1],[288,0,290,0],[288,2,290,2],[288,3,288,4],[288,5,290,5],[285,0,287,0],[285,2,287,2],[285,3,285,4],[285,5,287,5],[282,0,284,0],[282,2,284,2],[282,3,282,4],[282,5,284,5],[279,0,281,0],[279,2,281,2],[279,3,279,4],[279,5,281,5],[286,1,287,1],[289,1,290,1],[251,1,252,1],[254,1,255,1],[257,1,258,1],[260,1,261,1],[272,0,274,0],[272,2,274,2],[272,3,272,4],[272,5,274,5],[269,0,271,0],[269,2,271,2],[269,3,269,4],[269,5,271,5],[266,0,268,0],[266,2,268,2],[266,3,266,4],[266,5,268,5],[263,0,265,0],[263,2,265,2],[263,3,263,4],[263,5,265,5],[264,1,265,1],[267,1,268,1],[270,1,271,1],[273,1,274,1],[240,1,241,1],[243,1,244,1],[246,0,246,5],[262,0,262,5],[278,0,278,5],[294,0,294,5],[310,0,310,5],[256,0,258,0],[256,2,258,2],[256,3,256,4],[256,5,258,5],[253,0,255,0],[253,2,255,2],[253,3,253,4],[253,5,255,5],[250,0,252,0],[250,2,252,2],[250,3,250,4],[250,5,252,5],[247,0,249,0],[247,2,249,2],[247,3,247,4],[247,5,249,5],[248,1,249,1],[236,5,238,5],[233,0,235,0],[233,2,235,2],[233,3,233,4],[233,5,235,5],[230,0,232,0],[230,2,232,2],[230,3,230,4],[230,5,232,5],[231,1,232,1],[234,1,235,1],[237,1,238,1],[236,2,238,2],[236,3,236,4],[204,1,205,1],[207,1,208,1],[210,1,211,1],[229,0,229,16383],[222,0,224,0],[222,2,224,2],[222,3,222,4],[222,5,224,5],[219,0,221,0],[219,2,221,2],[219,3,219,4],[219,5,221,5],[216,0,218,0],[216,2,218,2],[216,3,216,4],[216,5,218,5],[213,0,215,0],[213,2,215,2],[213,3,213,4],[213,5,215,5],[214,1,215,1],[217,1,218,1],[220,1,221,1],[223,1,224,1],[0,0,0,5],[2,1,2,2],[5,1,5,5],[6,1,6,5],[7,1,7,5],[8,1,8,5],[206,0,208,0],[206,2,208,2],[206,3,206,4],[206,5,208,5],[203,0,205,0],[203,2,205,2],[203,3,203,4],[203,5,205,5],[200,0,202,0],[200,2,202,2],[200,3,200,4],[200,5,202,5],[197,0,199,0],[197,2,199,2],[197,3,197,4],[197,5,199,5],[198,1,199,1],[201,1,202,1],[9,1,9,5],[11,0,12,0],[11,2,12,2],[11,3,12,4],[11,5,12,5],[13,0,13,5],[15,5,17,5],[18,3,18,4],[18,5,20,5],[19,1,20,1],[56,0,58,0],[56,2,58,2],[259,0,261,0],[259,2,261,2],[259,3,259,4],[259,5,261,5],[275,0,277,0],[275,2,277,2],[275,3,275,4],[275,5,277,5],[225,0,227,0],[225,2,227,2],[225,3,225,4],[225,5,227,5],[242,0,244,0],[242,2,244,2],[242,3,242,4],[242,5,244,5],[226,1,227,1],[239,0,241,0],[239,2,241,2],[239,3,239,4],[239,5,241,5],[236,0,238,0],[374,0,376,0],[374,2,376,2],[374,3,374,4],[323,0,325,0],[323,2,325,2],[323,3,323,4],[357,0,359,0],[324,1,325,1],[354,0,356,0],[354,2,356,2],[354,3,354,4],[345,0,347,0],[345,2,347,2],[345,3,345,4],[372,1,373,1],[375,1,376,1],[348,0,350,0],[348,2,350,2],[348,3,348,4],[352,1,353,1],[355,1,356,1],[368,3,368,4],[326,1,326,5],[327,0,327,5],[374,5,376,5],[323,5,325,5],[357,2,359,2],[357,3,357,4],[357,5,359,5],[291,0,293,0],[291,2,293,2],[291,3,291,4],[291,5,293,5],[307,0,309,0],[307,2,309,2],[307,3,307,4],[307,5,309,5],[292,1,293,1],[304,0,306,0],[304,2,306,2],[304,3,304,4],[304,5,306,5],[301,0,303,0],[301,2,303,2],[301,3,301,4],[301,5,303,5],[298,0,300,0],[298,2,300,2],[27,0,29,0],[27,2,29,2],[27,3,27,4],[27,5,29,5],[28,1,29,1],[14,0,14,5],[30,0,30,5],[15,0,17,0],[15,2,17,2],[15,3,15,4],[21,0,23,0],[21,2,23,2],[21,3,21,4],[16,1,17,1],[18,0,20,0],[18,2,20,2],[24,3,24,4],[24,0,26,0],[24,2,26,2],[21,5,23,5],[22,1,23,1],[24,5,26,5],[25,1,26,1],[53,0,55,0],[53,2,55,2],[37,0,39,0],[37,2,39,2],[37,3,37,4],[37,5,39,5],[38,1,39,1],[40,0,42,0],[40,2,42,2],[40,3,40,4],[40,5,42,5],[41,1,42,1],[46,0,46,5],[43,0,45,0],[43,2,45,2],[43,3,43,4],[43,5,45,5],[44,1,45,1],[31,2,33,2],[31,3,31,4],[31,5,33,5],[32,1,33,1],[47,0,49,0],[47,2,49,2],[47,3,47,4],[47,5,49,5],[48,1,49,1],[31,0,33,0],[34,0,36,0],[34,2,36,2],[34,3,34,4],[34,5,36,5],[35,1,36,1],[62,0,62,5],[72,0,74,0],[72,2,74,2],[72,3,72,4],[53,3,53,4],[53,5,55,5],[54,1,55,1],[50,0,52,0],[50,2,52,2],[50,3,50,4],[50,5,52,5],[51,1,52,1],[59,0,61,0],[59,2,61,2],[59,3,59,4],[59,5,61,5],[60,1,61,1],[73,1,74,1],[63,0,65,0],[63,2,65,2],[63,3,63,4],[56,3,56,4],[56,5,58,5],[57,1,58,1],[63,5,65,5],[64,1,65,1],[67,1,68,1],[69,0,71,0],[69,2,71,2],[69,3,69,4],[69,5,71,5],[66,0,68,0],[66,2,68,2],[66,3,66,4],[66,5,68,5],[70,1,71,1],[75,2,77,2],[75,3,75,4],[75,5,77,5],[72,5,74,5],[91,3,92,4],[91,5,94,5],[87,0,90,0],[87,2,90,2],[87,3,88,4],[87,5,90,5],[89,1,90,1],[93,1,94,1],[78,0,78,5],[75,0,77,0],[76,1,77,1],[91,0,94,0],[91,2,94,2],[79,0,82,0],[79,2,82,2],[79,3,80,4],[79,5,82,5],[83,0,86,0],[83,2,86,2],[83,3,84,4],[83,5,86,5],[81,1,82,1],[85,1,86,1],[103,3,103,4],[103,5,105,5],[100,0,102,0],[100,2,102,2],[100,3,100,4],[100,5,102,5],[101,1,102,1],[104,1,105,1],[97,1,98,1],[103,0,105,0],[103,2,105,2],[99,0,99,5],[95,0,98,0],[95,2,98,2],[95,3,96,4],[95,5,98,5],[107,1,108,1],[110,1,111,1],[113,1,114,1],[126,0,128,0],[126,2,128,2],[126,3,126,4],[123,0,125,0],[123,2,125,2],[123,3,123,4],[116,0,116,5],[109,0,111,0],[109,2,111,2],[109,3,109,4],[109,5,111,5],[106,0,108,0],[106,2,108,2],[106,3,106,4],[106,5,108,5],[126,5,128,5],[112,0,114,0],[112,2,114,2],[112,3,112,4],[112,5,114,5],[121,1,122,1],[118,1,119,1],[132,0,132,5],[123,5,125,5],[120,0,122,0],[120,2,122,2],[120,3,120,4],[120,5,122,5],[117,0,119,0],[117,2,119,2],[117,3,117,4],[117,5,119,5],[129,0,131,0],[129,2,131,2],[129,3,129,4],[129,5,131,5],[124,1,125,1],[127,1,128,1],[130,1,131,1],[148,0,148,5],[164,0,164,5],[142,0,144,0],[142,2,144,2],[142,3,142,4],[142,5,144,5],[139,0,141,0],[161,0,163,0],[161,2,163,2],[161,3,161,4],[161,5,163,5],[145,0,147,0],[145,2,147,2],[145,3,145,4],[145,5,147,5],[143,1,144,1],[146,1,147,1],[158,0,160,0],[158,2,160,2],[158,3,158,4],[158,5,160,5],[155,0,157,0],[155,2,157,2],[155,3,155,4],[134,1,135,1],[137,1,138,1],[140,1,141,1],[133,0,135,0],[133,2,135,2],[133,3,133,4],[133,5,135,5],[139,2,141,2],[139,3,139,4],[139,5,141,5],[136,0,138,0],[136,2,138,2],[136,3,136,4],[136,5,138,5],[155,5,157,5],[152,0,154,0],[152,2,154,2],[152,3,152,4],[152,5,154,5],[149,0,151,0],[149,2,151,2],[149,3,149,4],[149,5,151,5],[150,1,151,1],[153,1,154,1],[156,1,157,1],[159,1,160,1],[162,1,163,1],[180,0,180,5],[196,0,196,5],[212,0,212,5],[174,0,176,0],[174,2,176,2],[174,3,174,4],[174,5,176,5],[193,0,195,0],[193,2,195,2],[193,3,193,4],[193,5,195,5],[209,0,211,0],[209,2,211,2],[209,3,209,4],[209,5,211,5],[177,0,179,0],[177,2,179,2],[177,3,177,4],[177,5,179,5],[171,0,173,0],[171,2,173,2],[165,0,167,0],[165,2,167,2],[165,3,165,4],[165,5,167,5],[166,1,167,1],[169,1,170,1],[171,3,171,4],[171,5,173,5],[168,0,170,0],[168,2,170,2],[168,3,168,4],[168,5,170,5],[172,1,173,1],[175,1,176,1],[178,1,179,1],[190,0,192,0],[190,2,192,2],[190,3,190,4],[190,5,192,5],[187,0,189,0],[187,2,189,2],[187,3,187,4],[187,5,189,5],[188,1,189,1],[191,1,192,1],[194,1,195,1],[184,0,186,0],[184,2,186,2],[184,3,184,4],[184,5,186,5],[181,0,183,0],[181,2,183,2],[181,3,181,4],[181,5,183,5],[182,1,183,1],[185,1,186,1],[328,0,330,0],[328,2,330,2],[328,3,328,4],[328,5,330,5],[329,1,330,1],[331,0,333,0],[331,2,333,2],[331,3,331,4],[331,5,333,5],[332,1,333,1],[340,0,342,0],[340,2,342,2],[340,3,340,4],[340,5,342,5],[341,1,342,1],[334,0,336,0],[334,2,336,2],[334,3,334,4],[334,5,336,5],[335,1,336,1],[337,0,339,0],[337,2,339,2],[337,3,337,4],[337,5,339,5],[338,1,339,1]]}
["RECAPITULATIF  =>  Plan de Suivi Individualisé                  Ne rien ecrire - ne rien effacer !!!  ",null,null,null,null,null,"a"]
[{"$f":"TODAY()","v":"2019-12-20"},null,null,"Nom :",{"$f":"INITIAL!E2","v":0}]
["Coordinateur : ",{"$f":"INITIAL!B3","v":0},null,"Prénom :",{"$f":"INITIAL!E3","v":0}]
["Durée du PSI",{"$f":"DATEDIF(INITIAL!E4,E4,\"d\")","v":0},"jours","Date :",{"$f":"'Revision 4'!E4","v":"00:00:00"},"Rentrer la date de la dernière révision (JJ/MM/AAAA)"]
["=",{"$f":"B4/7","v":0},"semaines"]
[{"$f":"INITIAL!E4","v":"00:00:00"},{"$f":"INITIAL!C6","v":0}]
[{"$f":"'Revision 1'!E4","v":"00:00:00"},{"$f":"'Revision 1'!B7:F7","v":0}]
[{"$f":"'Revision 2'!E4","v":"00:00:00"},{"$f":"'Revision 2'!B8:F8","v":0}]
[{"$f":"'Revision 3'!E4","v":"00:00:00"},{"$f":"'Revision 3'!B9:F9","v":0}]
[{"$f":"'Revision 4'!E4","v":"00:00:00"},{"$f":"'Revision 4'!B10:F10","v":0}]
[]
["Domaines",null,"Situation actuelle","Situation espérée (Objectifs)",null,"Moyens proposés"]
[]
["HABILETES VIE QUOTIDIENNE"]
["Lieu de vie "]
["Lieu de vie \nScore échelle 1  : ",{"$f":"INITIAL!B12","v":0},{"$f":"INITIAL!C12","v":0},{"$f":"INITIAL!D12","v":0},null,{"$f":"INITIAL!F12","v":0}]
[null,null,null,"Ressources","Freins"]
[null,null,null,{"$f":"INITIAL!D14","v":0},{"$f":"INITIAL!E14","v":0}]
["Lieu de vie \nScore échelle 1  : ",{"$f":"'Revision 1'!B12","v":0},{"$f":"'Revision 1'!C12","v":0},{"$f":"'Revision 1'!D12","v":0},null,{"$f":"'Revision 1'!F12","v":0}]
[null,null,null,"Ressources","Freins"]
[null,null,null,{"$f":"'Revision 1'!D14","v":0},{"$f":"'Revision 1'!E14","v":0}]
["Lieu de vie \nScore échelle 1  : ",{"$f":"'Revision 2'!B13","v":0},{"$f":"'Revision 2'!C13","v":0},{"$f":"'Revision 2'!D13","v":0},null,{"$f":"'Revision 2'!F13","v":0}]
[null,null,null,"Ressources","Freins"]
[null,null,null,{"$f":"'Revision 2'!D15","v":0},{"$f":"'Revision 2'!E15","v":0}]
["Lieu de vie \nScore échelle 1  : ",{"$f":"'Revision 3'!B14","v":0},{"$f":"'Revision 3'!C14","v":0},{"$f":"'Revision 3'!D14","v":0},null,{"$f":"'Revision 3'!F14","v":0}]
[null,null,null,"Ressources","Freins"]
[null,null,null,{"$f":"'Revision 3'!D16","v":0},{"$f":"'Revision 3'!E16","v":0}]
["Lieu de vie \nScore échelle 1  : ",{"$f":"'Revision 4'!B15","v":0},{"$f":"'Revision 4'!C15","v":0},{"$f":"'Revision 4'!D15","v":0},null,{"$f":"'Revision 4'!F15","v":0}]
[null,null,null,"Ressources","Freins"]
[null,null,null,{"$f":"'Revision 4'!D17","v":0},{"$f":"'Revision 4'!E17","v":0}]
["entretien logement"]
["Entretien logement \nScore échelle 2 : ",{"$f":"INITIAL!B15","v":0},{"$f":"INITIAL!C15","v":0},{"$f":"INITIAL!D15","v":0},null,{"$f":"INITIAL!F15","v":0}]
[null,null,null,"Ressources","Freins"]
[null,null,null,{"$f":"INITIAL!D17","v":0},{"$f":"INITIAL!E17","v":0}]
["Entretien logement \nScore échelle 2 : ",{"$f":"'Revision 1'!B15","v":0},{"$f":"'Revision 1'!C15","v":0},{"$f":"'Revision 1'!D15","v":0},null,{"$f":"'Revision 1'!F15","v":0}]
[null,null,null,"Ressources","Freins"]
[null,null,null,{"$f":"'Revision 1'!D17","v":0},{"$f":"'Revision 1'!E17","v":0}]
["Entretien logement \nScore échelle 2 : ",{"$f":"'Revision 2'!B16","v":0},{"$f":"'Revision 2'!C16","v":0},{"$f":"'Revision 2'!D16","v":0},null,{"$f":"'Revision 2'!F16","v":0}]
[null,null,null,"Ressources","Freins"]
[null,null,null,{"$f":"'Revision 2'!D18","v":0},{"$f":"'Revision 2'!E18","v":0}]
["Entretien logement \nScore échelle 2 : ",{"$f":"'Revision 3'!B17","v":0},{"$f":"'Revision 3'!C17","v":0},{"$f":"'Revision 3'!D17","v":0},null,{"$f":"'Revision 3'!F17","v":0}]
[null,null,null,"Ressources","Freins"]
[null,null,null,{"$f":"'Revision 3'!D19","v":0},{"$f":"'Revision 3'!E19","v":0}]
["Entretien logement \nScore échelle 2 : ",{"$f":"'Revision 4'!B18","v":0},{"$f":"'Revision 4'!C18","v":0},{"$f":"'Revision 4'!D18","v":0},null,{"$f":"'Revision 4'!F18","v":0}]
[null,null,null,"Ressources","Freins"]
[null,null,null,{"$f":"'Revision 4'!D20","v":0},{"$f":"'Revision 4'!E20","v":0}]
["Nutrition"]
["Nutrition\n\n",null,{"$f":"INITIAL!C18","v":0},{"$f":"INITIAL!D18","v":0},null,{"$f":"INITIAL!F18","v":0}]
[null,null,null,"Ressources","Freins"]
[null,null,null,{"$f":"INITIAL!D20","v":0},{"$f":"INITIAL!E20","v":0}]
["Nutrition\n\n",null,{"$f":"'Revision 1'!C18","v":0},{"$f":"'Revision 1'!D18","v":0},null,{"$f":"'Revision 1'!F18","v":0}]
[null,null,null,"Ressources","Freins"]
[null,null,null,{"$f":"'Revision 1'!D20","v":0},{"$f":"'Revision 1'!E20","v":0}]
["Nutrition\n\n",null,{"$f":"'Revision 2'!C19","v":0},{"$f":"'Revision 2'!D19","v":0},null,{"$f":"'Revision 2'!F19","v":0}]
[null,null,null,"Ressources","Freins"]
[null,null,null,{"$f":"'Revision 2'!D21","v":0},{"$f":"'Revision 2'!E21","v":0}]
["Nutrition\n\n",null,{"$f":"'Revision 3'!C20","v":0},{"$f":"'Revision 3'!D20","v":0},null,{"$f":"'Revision 3'!F20","v":0}]
[null,null,null,"Ressources","Freins"]
[null,null,null,{"$f":"'Revision 3'!D22","v":0},{"$f":"'Revision 3'!E22","v":0}]
["Nutrition\n\n",null,{"$f":"'Revision 4'!C21","v":0},{"$f":"'Revision 4'!D21","v":0},null,{"$f":"'Revision 4'!F21","v":0}]
[null,null,null,"Ressources","Freins"]
[null,null,null,{"$f":"'Revision 4'!D23","v":0},{"$f":"'Revision 4'!E23","v":0}]
["Hygiène personnelle"]
["Hygiène personnelle\n ",null,{"$f":"INITIAL!C21","v":0},{"$f":"INITIAL!D21","v":0},null,{"$f":"INITIAL!F21","v":0}]
[null,null,null,"Ressources","Freins"]
[null,null,null,{"$f":"INITIAL!D23","v":0},{"$f":"INITIAL!E23","v":0}]
["Hygiène personnelle\n ",null,{"$f":"'Revision 1'!C21","v":0},{"$f":"'Revision 1'!D21","v":0},null,{"$f":"'Revision 1'!F21","v":0}]
[null,null,null,"Ressources","Freins"]
[null,null,null,{"$f":"'Revision 1'!D23","v":0},{"$f":"'Revision 1'!E23","v":0}]
["Hygiène personnelle\n ",null,{"$f":"'Revision 2'!C22","v":0},{"$f":"'Revision 2'!D22","v":0},null,{"$f":"'Revision 2'!F22","v":0}]
[null,null,null,"Ressources","Freins"]
[null,null,null,{"$f":"'Revision 2'!D24","v":0},{"$f":"'Revision 2'!E24","v":0}]
["Hygiène personnelle\n ",null,{"$f":"'Revision 3'!C23","v":0},{"$f":"'Revision 3'!D23","v":0},null,{"$f":"'Revision 3'!F23","v":0}]
[null,null,null,"Ressources","Freins"]
[null,null,null,{"$f":"'Revision 3'!D25","v":0},{"$f":"'Revision 3'!E25","v":0}]
["Hygiène personnelle\n ",null,{"$f":"'Revision 4'!C24","v":0},{"$f":"'Revision 4'!D24","v":0},null,{"$f":"'Revision 4'!F24","v":0}]
[null,null,null,"Ressources","Freins"]
[null,null,null,{"$f":"'Revision 4'!D26","v":0},{"$f":"'Revision 4'!E26","v":0}]
["Gestion de l'argent et des papiers"]
["Gestion de l’argent et des papiers\nScore échelle 3 :\nScore échelle 4: ",{"$f":"INITIAL!B24","v":0},{"$f":"INITIAL!C24","v":0},{"$f":"INITIAL!D24","v":0},null,{"$f":"INITIAL!F24","v":0}]
[null,{"$f":"INITIAL!B25","v":0}]
[null,null,null,"Ressources","Freins"]
[null,null,null,{"$f":"INITIAL!D27","v":0},{"$f":"INITIAL!E27","v":0}]
["Gestion de l’argent et des papiers\nScore échelle 3 :\nScore échelle 4: ",{"$f":"'Revision 1'!B24","v":0},{"$f":"'Revision 1'!C24","v":0},{"$f":"'Revision 1'!D24","v":0},null,{"$f":"'Revision 1'!F24","v":0}]
[null,{"$f":"'Revision 1'!B25","v":0}]
[null,null,null,"Ressources","Freins"]
[null,null,null,{"$f":"'Revision 1'!D27","v":0},{"$f":"'Revision 1'!E27","v":0}]
["Gestion de l’argent et des papiers\nScore échelle 3 :\nScore échelle 4: ",{"$f":"'Revision 2'!B25","v":0},{"$f":"'Revision 2'!C25","v":0},{"$f":"'Revision 2'!D25","v":0},null,{"$f":"'Revision 2'!F25","v":0}]
[null,{"$f":"'Revision 2'!B26","v":0}]
[null,null,null,"Ressources","Freins"]
[null,null,null,{"$f":"'Revision 2'!D28","v":0},{"$f":"'Revision 2'!E28","v":0}]
["Gestion de l’argent et des papiers\nScore échelle 3 :\nScore échelle 4: ",{"$f":"'Revision 3'!B26","v":0},{"$f":"'Revision 3'!C26","v":0},{"$f":"'Revision 3'!D26","v":0},null,{"$f":"'Revision 3'!F26","v":0}]
[null,{"$f":"'Revision 3'!B27","v":0}]
[null,null,null,"Ressources","Freins"]
[null,null,null,{"$f":"'Revision 3'!D29","v":0},{"$f":"'Revision 3'!E29","v":0}]
["Gestion de l’argent et des papiers\nScore échelle 3 :\nScore échelle 4: ",{"$f":"'Revision 4'!B27","v":0},{"$f":"'Revision 4'!C27","v":0},{"$f":"'Revision 4'!D27","v":0},null,{"$f":"'Revision 4'!F27","v":0}]
[null,{"$f":"'Revision 4'!B28","v":0}]
[null,null,null,"Ressources","Freins"]
[null,null,null,{"$f":"'Revision 4'!D30","v":0},{"$f":"'Revision 4'!E30","v":0}]
["Déplacements"]
["Déplacements\nScore échelle 5:",{"$f":"INITIAL!B28","v":0},{"$f":"INITIAL!C28","v":0},{"$f":"INITIAL!D28","v":0},null,{"$f":"INITIAL!F28","v":0}]
[null,null,null,"Ressources","Freins"]
[null,null,null,{"$f":"INITIAL!D30","v":0},{"$f":"INITIAL!E30","v":0}]
["Déplacements\nScore échelle 5:",{"$f":"'Revision 1'!B28","v":0},{"$f":"'Revision 1'!C28","v":0},{"$f":"'Revision 1'!D28","v":0},null,{"$f":"'Revision 1'!F28","v":0}]
[null,null,null,"Ressources","Freins"]
[null,null,null,{"$f":"'Revision 1'!D30","v":0},{"$f":"'Revision 1'!E30","v":0}]
["Déplacements\nScore échelle 5:",{"$f":"'Revision 2'!B29","v":0},{"$f":"'Revision 2'!C29","v":0},{"$f":"'Revision 2'!D29","v":0},null,{"$f":"'Revision 2'!F29","v":0}]
[null,null,null,"Ressources","Freins"]
[null,null,null,{"$f":"'Revision 2'!D31","v":0},{"$f":"'Revision 2'!E31","v":0}]
["Déplacements\nScore échelle 5:",{"$f":"'Revision 3'!B30","v":0},{"$f":"'Revision 3'!C30","v":0},{"$f":"'Revision 3'!D30","v":0},null,{"$f":"'Revision 3'!F30","v":0}]
[null,null,null,"Ressources","Freins"]
[null,null,null,{"$f":"'Revision 3'!D32","v":0},{"$f":"'Revision 3'!E32","v":0}]
["Déplacements\nScore échelle 5:",{"$f":"'Revision 4'!B31","v":0},{"$f":"'Revision 4'!C31","v":0},{"$f":"'Revision 4'!D31","v":0},null,{"$f":"'Revision 4'!F31","v":0}]
[null,null,null,"Ressources","Freins"]
[null,null,null,{"$f":"'Revision 4'!D33","v":0},{"$f":"'Revision 4'!E33","v":0}]
["SANTE"]
["Gestion des RDV médicaux"]
["Gestion de la santé\nScore échelle 6 :",{"$f":"INITIAL!B32","v":0},{"$f":"INITIAL!C32","v":0},{"$f":"INITIAL!D32","v":0},null,{"$f":"INITIAL!F32","v":0}]
[null,null,null,"Ressources","Freins"]
[null,null,null,{"$f":"INITIAL!D34","v":0},{"$f":"INITIAL!E34","v":0}]
["Gestion de la santé\nScore échelle 6 :",{"$f":"'Revision 1'!B32","v":0},{"$f":"'Revision 1'!C32","v":0},{"$f":"'Revision 1'!D32","v":0},null,{"$f":"'Revision 1'!F32","v":0}]
[null,null,null,"Ressources","Freins"]
[null,null,null,{"$f":"'Revision 1'!D34","v":0},{"$f":"'Revision 1'!E34","v":0}]
["Gestion de la santé\nScore échelle 6 :",{"$f":"'Revision 2'!B33","v":0},{"$f":"'Revision 2'!C33","v":0},{"$f":"'Revision 2'!D33","v":0},null,{"$f":"'Revision 2'!F33","v":0}]
[null,null,null,"Ressources","Freins"]
[null,null,null,{"$f":"'Revision 2'!D35","v":0},{"$f":"'Revision 2'!E35","v":0}]
["Gestion de la santé\nScore échelle 6 :",{"$f":"'Revision 3'!B34","v":0},{"$f":"'Revision 3'!C34","v":0},{"$f":"'Revision 3'!D34","v":0},null,{"$f":"'Revision 3'!F34","v":0}]
[null,null,null,"Ressources","Freins"]
[null,null,null,{"$f":"'Revision 3'!D36","v":0},{"$f":"'Revision 3'!E36","v":0}]
["Gestion de la santé\nScore échelle 6 :",{"$f":"'Revision 4'!B35","v":0},{"$f":"'Revision 4'!C35","v":0},{"$f":"'Revision 4'!D35","v":0},null,{"$f":"'Revision 4'!F35","v":0}]
[null,null,null,"Ressources","Freins"]
[null,null,null,{"$f":"'Revision 4'!D37","v":0},{"$f":"'Revision 4'!E37","v":0}]
["Diagnostic"]
["Diagnostic\n",null,{"$f":"INITIAL!C35","v":0},{"$f":"INITIAL!D35","v":0},null,{"$f":"INITIAL!F35","v":0}]
[null,null,null,"Ressources","Freins"]
[null,null,null,{"$f":"INITIAL!D37","v":0},{"$f":"INITIAL!E37","v":0}]
["Diagnostic\n",null,{"$f":"'Revision 1'!C35","v":0},{"$f":"'Revision 1'!D35","v":0},null,{"$f":"'Revision 1'!F35","v":0}]
[null,null,null,"Ressources","Freins"]
[null,null,null,{"$f":"'Revision 1'!D37","v":0},{"$f":"'Revision 1'!E37","v":0}]
["Diagnostic\n",null,{"$f":"'Revision 2'!C36","v":0},{"$f":"'Revision 2'!D36","v":0},null,{"$f":"'Revision 2'!F36","v":0}]
[null,null,null,"Ressources","Freins"]
[null,null,null,{"$f":"'Revision 2'!D38","v":0},{"$f":"'Revision 2'!E38","v":0}]
["Diagnostic\n",null,{"$f":"'Revision 3'!C37","v":0},{"$f":"'Revision 3'!D37","v":0},null,{"$f":"'Revision 3'!F37","v":0}]
[null,null,null,"Ressources","Freins"]
[null,null,null,{"$f":"'Revision 3'!D39","v":0},{"$f":"'Revision 3'!E39","v":0}]
["Diagnostic\n",null,{"$f":"'Revision 4'!C38","v":0},{"$f":"'Revision 4'!D38","v":0},null,{"$f":"'Revision 4'!F38","v":0}]
[null,null,null,"Ressources","Freins"]
[null,null,null,{"$f":"'Revision 4'!D40","v":0},{"$f":"'Revision 4'!E40","v":0}]
["Symptômes/signes cliniques"]
["Symptômes/signes cliniques\nScore échelle 7 :",{"$f":"INITIAL!B38","v":0},{"$f":"INITIAL!C38","v":0},{"$f":"INITIAL!D38","v":0},null,{"$f":"INITIAL!F38","v":0}]
[null,null,null,"Ressources","Freins"]
[null,null,null,{"$f":"INITIAL!D40","v":0},{"$f":"INITIAL!E40","v":0}]
["Symptômes/signes cliniques\nScore échelle 7 :",{"$f":"'Revision 1'!B38","v":0},{"$f":"'Revision 1'!C38","v":0},{"$f":"'Revision 1'!D38","v":0},null,{"$f":"'Revision 1'!F38","v":0}]
[null,null,null,"Ressources","Freins"]
[null,null,null,{"$f":"'Revision 1'!D40","v":0},{"$f":"'Revision 1'!E40","v":0}]
["Symptômes/signes cliniques\nScore échelle 7 :",{"$f":"'Revision 2'!B39","v":0},{"$f":"'Revision 2'!C39","v":0},{"$f":"'Revision 2'!D39","v":0},null,{"$f":"'Revision 2'!F39","v":0}]
[null,null,null,"Ressources","Freins"]
[null,null,null,{"$f":"'Revision 2'!D41","v":0},{"$f":"'Revision 2'!E41","v":0}]
["Symptômes/signes cliniques\nScore échelle 7 :",{"$f":"'Revision 3'!B40","v":0},{"$f":"'Revision 3'!C40","v":0},{"$f":"'Revision 3'!D40","v":0},null,{"$f":"'Revision 3'!F40","v":0}]
[null,null,null,"Ressources","Freins"]
[null,null,null,{"$f":"'Revision 3'!D42","v":0},{"$f":"'Revision 3'!E42","v":0}]
["Symptômes/signes cliniques\nScore échelle 7 :",{"$f":"'Revision 4'!B41","v":0},{"$f":"'Revision 4'!C41","v":0},{"$f":"'Revision 4'!D41","v":0},null,{"$f":"'Revision 4'!F41","v":0}]
[null,null,null,"Ressources","Freins"]
[null,null,null,{"$f":"'Revision 4'!D43","v":0},{"$f":"'Revision 4'!E43","v":0}]
["Traitements\n"]
["Traitements\n",null,{"$f":"INITIAL!C41","v":0},{"$f":"INITIAL!D41","v":0},null,{"$f":"INITIAL!F41","v":0}]
[null,null,null,"Ressources","Freins"]
[null,null,null,{"$f":"INITIAL!D43","v":0},{"$f":"INITIAL!E43","v":0}]
["Traitements\n",null,{"$f":"'Revision 1'!C41","v":0},{"$f":"'Revision 1'!D41","v":0},null,{"$f":"'Revision 1'!F41","v":0}]
[null,null,null,"Ressources","Freins"]
[null,null,null,{"$f":"'Revision 1'!D43","v":0},{"$f":"'Revision 1'!E43","v":0}]
["Traitements\n",null,{"$f":"'Revision 2'!C42","v":0},{"$f":"'Revision 2'!D42","v":0},null,{"$f":"'Revision 2'!F42","v":0}]
[null,null,null,"Ressources","Freins"]
[null,null,null,{"$f":"'Revision 2'!D44","v":0},{"$f":"'Revision 2'!E44","v":0}]
["Traitements\n",null,{"$f":"'Revision 3'!C43","v":0},{"$f":"'Revision 3'!D43","v":0},null,{"$f":"'Revision 3'!F43","v":0}]
[null,null,null,"Ressources","Freins"]
[null,null,null,{"$f":"'Revision 3'!D45","v":0},{"$f":"'Revision 3'!E45","v":0}]
["Traitements\n",null,{"$f":"'Revision 4'!C44","v":0},{"$f":"'Revision 4'!D44","v":0},null,{"$f":"'Revision 4'!F44","v":0}]
[null,null,null,"Ressources","Freins"]
[null,null,null,{"$f":"'Revision 4'!D46","v":0},{"$f":"'Revision 4'!E46","v":0}]
["Effets secondaires"]
["Effets secondaires\n",null,{"$f":"INITIAL!C44","v":0},{"$f":"INITIAL!D44","v":0},null,{"$f":"INITIAL!F44","v":0}]
[null,null,null,"Ressources","Freins"]
["Effets secondaires",null,null,{"$f":"INITIAL!D46","v":0},{"$f":"INITIAL!E46","v":0}]
["Effets secondaires\n",null,{"$f":"'Revision 1'!C44","v":0},{"$f":"'Revision 1'!D44","v":0},null,{"$f":"'Revision 1'!F44","v":0}]
[null,null,null,"Ressources","Freins"]
["Effets secondaires",null,null,{"$f":"'Revision 1'!D46","v":0},{"$f":"'Revision 1'!E46","v":0}]
["Effets secondaires\n",null,{"$f":"'Revision 2'!C45","v":0},{"$f":"'Revision 2'!D45","v":0},null,{"$f":"'Revision 2'!F45","v":0}]
[null,null,null,"Ressources","Freins"]
["Effets secondaires",null,null,{"$f":"'Revision 2'!D47","v":0},{"$f":"'Revision 2'!E47","v":0}]
["Effets secondaires\n",null,{"$f":"'Revision 3'!C46","v":0},{"$f":"'Revision 3'!D46","v":0},null,{"$f":"'Revision 3'!F46","v":0}]
[null,null,null,"Ressources","Freins"]
["Effets secondaires",null,null,{"$f":"'Revision 3'!D48","v":0},{"$f":"'Revision 3'!E48","v":0}]
["Effets secondaires\n",null,{"$f":"'Revision 4'!C47","v":0},{"$f":"'Revision 4'!D47","v":0},null,{"$f":"'Revision 4'!F47","v":0}]
[null,null,null,"Ressources","Freins"]
["Effets secondaires",null,null,{"$f":"'Revision 4'!D49","v":0},{"$f":"'Revision 4'!E49","v":0}]
["Sommeil "]
["Sommeil ",null,{"$f":"INITIAL!C47","v":0},{"$f":"INITIAL!D47","v":0},null,{"$f":"INITIAL!F47","v":0}]
[null,null,null,"Ressources","Freins"]
[null,null,null,{"$f":"INITIAL!D49","v":0},{"$f":"INITIAL!E49","v":0}]
["Sommeil ",null,{"$f":"'Revision 1'!C47","v":0},{"$f":"'Revision 1'!D47","v":0},null,{"$f":"'Revision 1'!F47","v":0}]
[null,null,null,"Ressources","Freins"]
[null,null,null,{"$f":"'Revision 1'!D49","v":0},{"$f":"'Revision 1'!E49","v":0}]
["Sommeil ",null,{"$f":"'Revision 2'!C48","v":0},{"$f":"'Revision 2'!D48","v":0},null,{"$f":"'Revision 2'!F48","v":0}]
[null,null,null,"Ressources","Freins"]
[null,null,null,{"$f":"'Revision 2'!D50","v":0},{"$f":"'Revision 2'!E50","v":0}]
["Sommeil ",null,{"$f":"'Revision 3'!C49","v":0},{"$f":"'Revision 3'!D49","v":0},null,{"$f":"'Revision 3'!F49","v":0}]
[null,null,null,"Ressources","Freins"]
[null,null,null,{"$f":"'Revision 3'!D51","v":0},{"$f":"'Revision 3'!E51","v":0}]
["Sommeil ",null,{"$f":"'Revision 4'!C50","v":0},{"$f":"'Revision 4'!D50","v":0},null,{"$f":"'Revision 4'!F50","v":0}]
[null,null,null,"Ressources","Freins"]
[null,null,null,{"$f":"'Revision 4'!D52","v":0},{"$f":"'Revision 4'!E52","v":0}]
["Toxiques"]
["Toxiques\n",null,{"$f":"INITIAL!C50","v":0},{"$f":"INITIAL!D50","v":0},null,{"$f":"INITIAL!F50","v":0}]
[null,null,null,"Ressources","Freins"]
[null,null,null,{"$f":"INITIAL!D52","v":0},{"$f":"INITIAL!E52","v":0}]
["Toxiques\n",null,{"$f":"'Revision 1'!C50","v":0},{"$f":"'Revision 1'!D50","v":0},null,{"$f":"'Revision 1'!F50","v":0}]
[null,null,null,"Ressources","Freins"]
[null,null,null,{"$f":"'Revision 1'!D52","v":0},{"$f":"'Revision 1'!E52","v":0}]
["Toxiques\n",null,{"$f":"'Revision 2'!C51","v":0},{"$f":"'Revision 2'!D51","v":0},null,{"$f":"'Revision 2'!F51","v":0}]
[null,null,null,"Ressources","Freins"]
[null,null,null,{"$f":"'Revision 2'!D53","v":0},{"$f":"'Revision 2'!E53","v":0}]
["Toxiques\n",null,{"$f":"'Revision 3'!C52","v":0},{"$f":"'Revision 3'!D52","v":0},null,{"$f":"'Revision 3'!F52","v":0}]
[null,null,null,"Ressources","Freins"]
[null,null,null,{"$f":"'Revision 3'!D54","v":0},{"$f":"'Revision 3'!E54","v":0}]
["Toxiques\n",null,{"$f":"'Revision 4'!C53","v":0},{"$f":"'Revision 4'!D53","v":0},null,{"$f":"'Revision 4'!F53","v":0}]
[null,null,null,"Ressources","Freins"]
[null,null,null,{"$f":"'Revision 4'!D55","v":0},{"$f":"'Revision 4'!E55","v":0}]
["FONCTIONNEMENT COGNITIF"]
["Fonctionnement Cognitif"]
["Fonctionnement cognitif\nScore échelle 8 : ",{"$f":"INITIAL!B54","v":0},{"$f":"INITIAL!C54","v":0},{"$f":"INITIAL!D54","v":0},null,{"$f":"INITIAL!F54","v":0}]
[null,null,null,"Ressources","Freins"]
[null,null,null,{"$f":"INITIAL!D56","v":0},{"$f":"INITIAL!E56","v":0}]
["Fonctionnement cognitif\nScore échelle 8 : ",{"$f":"'Revision 1'!B54","v":0},{"$f":"'Revision 1'!C54","v":0},{"$f":"'Revision 1'!D54","v":0},null,{"$f":"'Revision 1'!F54","v":0}]
[null,null,null,"Ressources","Freins"]
[null,null,null,{"$f":"'Revision 1'!D56","v":0},{"$f":"'Revision 1'!E56","v":0}]
["Fonctionnement cognitif\nScore échelle 8 : ",{"$f":"'Revision 2'!B55","v":0},{"$f":"'Revision 2'!C55","v":0},{"$f":"'Revision 2'!D55","v":0},null,{"$f":"'Revision 2'!F55","v":0}]
[null,null,null,"Ressources","Freins"]
[null,null,null,{"$f":"'Revision 2'!D57","v":0},{"$f":"'Revision 2'!E57","v":0}]
["Fonctionnement cognitif\nScore échelle 8 : ",{"$f":"'Revision 3'!B56","v":0},{"$f":"'Revision 3'!C56","v":0},{"$f":"'Revision 3'!D56","v":0},null,{"$f":"'Revision 3'!F56","v":0}]
[null,null,null,"Ressources","Freins"]
[null,null,null,{"$f":"'Revision 3'!D58","v":0},{"$f":"'Revision 3'!E58","v":0}]
["Fonctionnement cognitif\nScore échelle 8 : ",{"$f":"'Revision 4'!B57","v":0},{"$f":"'Revision 4'!C57","v":0},{"$f":"'Revision 4'!D57","v":0},null,{"$f":"'Revision 4'!F57","v":0}]
[null,null,null,"Ressources","Freins"]
[null,null,null,{"$f":"'Revision 4'!D59","v":0},{"$f":"'Revision 4'!E59","v":0}]
["RELATIONS INTERPERSONNELLES"]
["Relations sociales"]
["Relations sociales\nScore échelle 9 :",{"$f":"INITIAL!B58","v":0},{"$f":"INITIAL!C58","v":0},{"$f":"INITIAL!D58","v":0},null,{"$f":"INITIAL!F58","v":0}]
[null,null,null,"Ressources","Freins"]
[null,null,null,{"$f":"INITIAL!D60","v":0},{"$f":"INITIAL!E60","v":0}]
["Relations sociales\nScore échelle 9 :",{"$f":"'Revision 1'!B58","v":0},{"$f":"'Revision 1'!C58","v":0},{"$f":"'Revision 1'!D58","v":0},null,{"$f":"'Revision 1'!F58","v":0}]
[null,null,null,"Ressources","Freins"]
[null,null,null,{"$f":"'Revision 1'!D60","v":0},{"$f":"'Revision 1'!E60","v":0}]
["Relations sociales\nScore échelle 9 :",{"$f":"'Revision 2'!B59","v":0},{"$f":"'Revision 2'!C59","v":0},{"$f":"'Revision 2'!D59","v":0},null,{"$f":"'Revision 2'!F59","v":0}]
[null,null,null,"Ressources","Freins"]
[null,null,null,{"$f":"'Revision 2'!D61","v":0},{"$f":"'Revision 2'!E61","v":0}]
["Relations sociales\nScore échelle 9 :",{"$f":"'Revision 3'!B60","v":0},{"$f":"'Revision 3'!C60","v":0},{"$f":"'Revision 3'!D60","v":0},null,{"$f":"'Revision 3'!F60","v":0}]
[null,null,null,"Ressources","Freins"]
[null,null,null,{"$f":"'Revision 3'!D62","v":0},{"$f":"'Revision 3'!E62","v":0}]
["Relations sociales\nScore échelle 9 :",{"$f":"'Revision 4'!B61","v":0},{"$f":"'Revision 4'!C61","v":0},{"$f":"'Revision 4'!D61","v":0},null,{"$f":"'Revision 4'!F61","v":0}]
[null,null,null,"Ressources","Freins"]
[null,null,null,{"$f":"'Revision 4'!D63","v":0},{"$f":"'Revision 4'!E63","v":0}]
["Relations amicales"]
["Relations amicales\nScore échelle 10",{"$f":"INITIAL!B61","v":0},{"$f":"INITIAL!C61","v":0},{"$f":"INITIAL!D61","v":0},null,{"$f":"INITIAL!F61","v":0}]
[null,null,null,"Ressources","Freins"]
[null,null,null,{"$f":"INITIAL!D63","v":0},{"$f":"INITIAL!E63","v":0}]
["Relations amicales\nScore échelle 10",{"$f":"'Revision 1'!B61","v":0},{"$f":"'Revision 1'!C61","v":0},{"$f":"'Revision 1'!D61","v":0},null,{"$f":"'Revision 1'!F61","v":0}]
[null,null,null,"Ressources","Freins"]
[null,null,null,{"$f":"'Revision 1'!D63","v":0},{"$f":"'Revision 1'!E63","v":0}]
["Relations amicales\nScore échelle 10",{"$f":"'Revision 2'!B62","v":0},{"$f":"'Revision 2'!C62","v":0},{"$f":"'Revision 2'!D62","v":0},null,{"$f":"'Revision 2'!F62","v":0}]
[null,null,null,"Ressources","Freins"]
[null,null,null,{"$f":"'Revision 2'!D64","v":0},{"$f":"'Revision 2'!E64","v":0}]
["Relations amicales\nScore échelle 10",{"$f":"'Revision 3'!B63","v":0},null,{"$f":"'Revision 3'!D63","v":0},null,{"$f":"'Revision 3'!F63","v":0}]
[null,null,null,"Ressources","Freins"]
[null,null,null,{"$f":"'Revision 3'!D65","v":0},{"$f":"'Revision 3'!E65","v":0}]
["Relations amicales\nScore échelle 10",{"$f":"'Revision 4'!B64","v":0},{"$f":"'Revision 4'!C64","v":0},{"$f":"'Revision 4'!D64","v":0},null,{"$f":"'Revision 4'!F64","v":0}]
[null,null,null,"Ressources","Freins"]
[null,null,null,{"$f":"'Revision 4'!D66","v":0},{"$f":"'Revision 4'!E66","v":0}]
["Relations sentimentales"]
["Relations sentimentales\nScore échelle 11",{"$f":"INITIAL!B64","v":0},{"$f":"INITIAL!C64","v":0},{"$f":"INITIAL!D64","v":0},null,{"$f":"INITIAL!F64","v":0}]
[null,null,null,"Ressources","Freins"]
[null,null,null,{"$f":"INITIAL!D66","v":0},{"$f":"INITIAL!E66","v":0}]
["Relations sentimentales\nScore échelle 11",{"$f":"'Revision 1'!B64","v":0},{"$f":"'Revision 1'!C64","v":0},{"$f":"'Revision 1'!D64","v":0},null,{"$f":"'Revision 1'!F64","v":0}]
[null,null,null,"Ressources","Freins"]
[null,null,null,{"$f":"'Revision 1'!D66","v":0},{"$f":"'Revision 1'!E66","v":0}]
["Relations sentimentales\nScore échelle 11",{"$f":"'Revision 2'!B65","v":0},{"$f":"'Revision 2'!C65","v":0},{"$f":"'Revision 2'!D65","v":0},null,{"$f":"'Revision 2'!F65","v":0}]
[null,null,null,"Ressources","Freins"]
[null,null,null,{"$f":"'Revision 2'!D67","v":0},{"$f":"'Revision 2'!E67","v":0}]
["Relations sentimentales\nScore échelle 11",{"$f":"'Revision 3'!B66","v":0},{"$f":"'Revision 3'!C66","v":0},{"$f":"'Revision 3'!D66","v":0},null,{"$f":"'Revision 3'!F66","v":0}]
[null,null,null,"Ressources","Freins"]
[null,null,null,{"$f":"'Revision 3'!D68","v":0},{"$f":"'Revision 3'!E68","v":0}]
["Relations sentimentales\nScore échelle 11",{"$f":"'Revision 4'!B67","v":0},{"$f":"'Revision 4'!C67","v":0},{"$f":"'Revision 4'!D67","v":0},null,{"$f":"'Revision 4'!F67","v":0}]
[null,null,null,"Ressources","Freins"]
[null,null,null,{"$f":"'Revision 4'!D69","v":0},{"$f":"'Revision 4'!E69","v":0}]
["Relations familiales"]
["Relations familiales\nScore échelle 12 :",{"$f":"INITIAL!B67","v":0},{"$f":"INITIAL!C67","v":0},{"$f":"INITIAL!D67","v":0},null,{"$f":"INITIAL!F67","v":0}]
[null,null,null,"Ressources","Freins"]
[null,null,null,{"$f":"INITIAL!D69","v":0},{"$f":"INITIAL!E69","v":0}]
["Relations familiales\nScore échelle 12 :",{"$f":"'Revision 1'!B67","v":0},{"$f":"'Revision 1'!C67","v":0},{"$f":"'Revision 1'!D67","v":0},null,{"$f":"'Revision 1'!F67","v":0}]
[null,null,null,"Ressources","Freins"]
[null,null,null,{"$f":"'Revision 1'!D69","v":0},{"$f":"'Revision 1'!E69","v":0}]
["Relations familiales\nScore échelle 12 :",{"$f":"'Revision 2'!B68","v":0},{"$f":"'Revision 2'!C68","v":0},{"$f":"'Revision 2'!D68","v":0},null,{"$f":"'Revision 2'!F68","v":0}]
[null,null,null,"Ressources","Freins"]
[null,null,null,{"$f":"'Revision 2'!D70","v":0},{"$f":"'Revision 2'!E70","v":0}]
["Relations familiales\nScore échelle 12 :",{"$f":"'Revision 3'!B69","v":0},{"$f":"'Revision 3'!C69","v":0},{"$f":"'Revision 3'!D69","v":0},null,{"$f":"'Revision 3'!F69","v":0}]
[null,null,null,"Ressources","Freins"]
[null,null,null,{"$f":"'Revision 3'!D71","v":0},{"$f":"'Revision 3'!E71","v":0}]
["Relations familiales\nScore échelle 12 :",{"$f":"'Revision 4'!B70","v":0},{"$f":"'Revision 4'!C70","v":0},{"$f":"'Revision 4'!D70","v":0},null,{"$f":"'Revision 4'!F70","v":0}]
[null,null,null,"Ressources","Freins"]
[null,null,null,{"$f":"'Revision 4'!D72","v":0},{"$f":"'Revision 4'!E72","v":0}]
["Relations professionnelles/scolaires"]
["Relations professionnelles/scolaires\nScore échelle 13",{"$f":"INITIAL!B70","v":0},{"$f":"INITIAL!C70","v":0},{"$f":"INITIAL!D70","v":0},null,{"$f":"INITIAL!F70","v":0}]
[null,null,null,"Ressources","Freins"]
[null,null,null,{"$f":"INITIAL!D72","v":0},{"$f":"INITIAL!E72","v":0}]
["Relations professionnelles/scolaires\nScore échelle 13",{"$f":"'Revision 1'!B70","v":0},{"$f":"'Revision 1'!C70","v":0},{"$f":"'Revision 1'!D70","v":0},null,{"$f":"'Revision 1'!F70","v":0}]
[null,null,null,"Ressources","Freins"]
[null,null,null,{"$f":"'Revision 1'!D72","v":0},{"$f":"'Revision 1'!E72","v":0}]
["Relations professionnelles/scolaires\nScore échelle 13",{"$f":"'Revision 2'!B71","v":0},{"$f":"'Revision 2'!C71","v":0},{"$f":"'Revision 2'!D71","v":0},null,{"$f":"'Revision 2'!F71","v":0}]
[null,null,null,"Ressources","Freins"]
[null,null,null,{"$f":"'Revision 2'!D73","v":0},{"$f":"'Revision 2'!E73","v":0}]
["Relations professionnelles/scolaires\nScore échelle 13",{"$f":"'Revision 3'!B72","v":0},{"$f":"'Revision 3'!C72","v":0},{"$f":"'Revision 3'!D72","v":0},null,{"$f":"'Revision 3'!F72","v":0}]
[null,null,null,"Ressources","Freins"]
[null,null,null,{"$f":"'Revision 3'!D74","v":0},{"$f":"'Revision 3'!E74","v":0}]
["Relations professionnelles/scolaires\nScore échelle 13",{"$f":"'Revision 4'!B73","v":0},{"$f":"'Revision 4'!C73","v":0},{"$f":"'Revision 4'!D73","v":0},null,{"$f":"'Revision 4'!F73","v":0}]
[null,null,null,"Ressources","Freins"]
[null,null,null,{"$f":"'Revision 4'!D75","v":0},{"$f":"'Revision 4'!E75","v":0}]
["SEXUALITE"]
["SEXUALITE"]
["Sexualité\n",null,{"$f":"INITIAL!C74","v":0},{"$f":"INITIAL!D74","v":0},null,{"$f":"INITIAL!F74","v":0}]
[null,null,null,"Ressources","Freins"]
[null,null,null,{"$f":"INITIAL!D76","v":0},{"$f":"INITIAL!E76","v":0}]
["Sexualité\n",null,{"$f":"'Revision 1'!C74","v":0},{"$f":"'Revision 1'!D74","v":0},null,{"$f":"'Revision 1'!F74","v":0}]
[null,null,null,"Ressources","Freins"]
[null,null,null,{"$f":"'Revision 1'!D76","v":0},{"$f":"'Revision 1'!E76","v":0}]
["Sexualité\n",null,{"$f":"'Revision 2'!C75","v":0},{"$f":"'Revision 2'!D75","v":0},null,{"$f":"'Revision 2'!F75","v":0}]
[null,null,null,"Ressources","Freins"]
[null,null,null,{"$f":"'Revision 2'!D77","v":0},{"$f":"'Revision 2'!E77","v":0}]
["Sexualité\n",null,{"$f":"'Revision 3'!C76","v":0},{"$f":"'Revision 3'!D76","v":0},null,{"$f":"'Revision 3'!F76","v":0}]
[null,null,null,"Ressources","Freins"]
[null,null,null,{"$f":"'Revision 3'!D78","v":0},{"$f":"'Revision 3'!E78","v":0}]
["Sexualité\n",null,{"$f":"'Revision 4'!C77","v":0},{"$f":"'Revision 4'!D77","v":0},null,{"$f":"'Revision 4'!F77","v":0}]
[null,null,null,"Ressources","Freins"]
[null,null,null,{"$f":"'Revision 4'!D79","v":0},{"$f":"'Revision 4'!E79","v":0}]
["SPIRITUALITE"]
["SPIRITUALITE"]
["Spiritualité\n",null,{"$f":"INITIAL!C78","v":0},{"$f":"INITIAL!D78","v":0},null,{"$f":"INITIAL!F78","v":0}]
[null,null,null,"Ressources","Freins"]
[null,null,null,{"$f":"INITIAL!D80","v":0},{"$f":"INITIAL!E80","v":0}]
["Spiritualité\n",null,{"$f":"'Revision 1'!C78","v":0},{"$f":"'Revision 1'!D78","v":0},null,{"$f":"'Revision 1'!F78","v":0}]
[null,null,null,"Ressources","Freins"]
[null,null,null,{"$f":"'Revision 1'!D80","v":0},{"$f":"'Revision 1'!E80","v":0}]
["Spiritualité\n",null,{"$f":"'Revision 2'!C79","v":0},{"$f":"'Revision 2'!D79","v":0},null,{"$f":"'Revision 2'!F79","v":0}]
[null,null,null,"Ressources","Freins"]
[null,null,null,{"$f":"'Revision 2'!D81","v":0},{"$f":"'Revision 2'!E81","v":0}]
["Spiritualité\n",null,{"$f":"'Revision 3'!C80","v":0},{"$f":"'Revision 3'!D80","v":0},null,{"$f":"'Revision 3'!F80","v":0}]
[null,null,null,"Ressources","Freins"]
[null,null,null,{"$f":"'Revision 3'!D82","v":0},{"$f":"'Revision 3'!E82","v":0}]
["Spiritualité\n",null,{"$f":"'Revision 4'!C81","v":0},{"$f":"'Revision 4'!D81","v":0},null,{"$f":"'Revision 4'!F81","v":0}]
[null,null,null,"Ressources","Freins"]
[null,null,null,{"$f":"'Revision 4'!D83","v":0},{"$f":"'Revision 4'!E83","v":0}]
["LOISIRS "]
["LOISIRS "]
["Loisirs\nScore échelle 14 :",{"$f":"INITIAL!B82","v":0},{"$f":"INITIAL!C82","v":0},{"$f":"INITIAL!D82","v":0},null,{"$f":"INITIAL!F82","v":0}]
[null,null,null,"Ressources","Freins"]
[null,null,null,{"$f":"INITIAL!D84","v":0},{"$f":"INITIAL!E84","v":0}]
["Loisirs\nScore échelle 14 :",{"$f":"'Revision 1'!B82","v":0},{"$f":"'Revision 1'!C82","v":0},{"$f":"'Revision 1'!D82","v":0},null,{"$f":"'Revision 1'!F82","v":0}]
[null,null,null,"Ressources","Freins"]
[null,null,null,{"$f":"'Revision 1'!D84","v":0},{"$f":"'Revision 1'!E84","v":0}]
["Loisirs\nScore échelle 14 :",{"$f":"'Revision 2'!B83","v":0},{"$f":"'Revision 2'!C83","v":0},{"$f":"'Revision 2'!D83","v":0},null,{"$f":"'Revision 2'!F83","v":0}]
[null,null,null,"Ressources","Freins"]
[null,null,null,{"$f":"'Revision 2'!D85","v":0},{"$f":"'Revision 2'!E85","v":0}]
["Loisirs\nScore échelle 14 :",{"$f":"'Revision 3'!B84","v":0},{"$f":"'Revision 3'!C84","v":0},{"$f":"'Revision 3'!D84","v":0},null,{"$f":"'Revision 3'!F84","v":0}]
[null,null,null,"Ressources","Freins"]
[null,null,null,{"$f":"'Revision 3'!D86","v":0},{"$f":"'Revision 3'!E86","v":0}]
["Loisirs\nScore échelle 14 :",{"$f":"'Revision 4'!B85","v":0},{"$f":"'Revision 4'!C85","v":0},{"$f":"'Revision 4'!D85","v":0},null,{"$f":"'Revision 4'!F85","v":0}]
[null,null,null,"Ressources","Freins"]
[null,null,null,{"$f":"'Revision 4'!D87","v":0},{"$f":"'Revision 4'!E87","v":0}]
["FORMATIONS ET EMPLOIS"]
["Formations et diplômes"]
["Formations et diplômes\nScore échelle 15 :",{"$f":"INITIAL!B86","v":0},{"$f":"INITIAL!C86","v":0},{"$f":"INITIAL!D86","v":0},null,{"$f":"INITIAL!F86","v":0}]
[null,null,null,"Ressources","Freins"]
[null,null,null,{"$f":"INITIAL!D88","v":0},{"$f":"INITIAL!E88","v":0}]
["Formations et diplômes\nScore échelle 15 :",{"$f":"'Revision 1'!B86","v":0},{"$f":"'Revision 1'!C86","v":0},{"$f":"'Revision 1'!D86","v":0},null,{"$f":"'Revision 1'!F86","v":0}]
[null,null,null,"Ressources","Freins"]
[null,null,null,{"$f":"'Revision 1'!D88","v":0},{"$f":"'Revision 1'!E88","v":0}]
["Formations et diplômes\nScore échelle 15 :",{"$f":"'Revision 2'!B87","v":0},{"$f":"'Revision 2'!C87","v":0},{"$f":"'Revision 2'!D87","v":0},null,{"$f":"'Revision 2'!F87","v":0}]
[null,null,null,"Ressources","Freins"]
[null,null,null,{"$f":"'Revision 2'!D89","v":0},{"$f":"'Revision 2'!E89","v":0}]
["Formations et diplômes\nScore échelle 15 :",{"$f":"'Revision 3'!B88","v":0},{"$f":"'Revision 3'!C88","v":0},{"$f":"'Revision 3'!D88","v":0},null,{"$f":"'Revision 3'!F88","v":0}]
[null,null,null,"Ressources","Freins"]
[null,null,null,{"$f":"'Revision 3'!D90","v":0},{"$f":"'Revision 3'!E90","v":0}]
["Formations et diplômes\nScore échelle 15 :",{"$f":"'Revision 4'!B89","v":0},{"$f":"'Revision 4'!C89","v":0},{"$f":"'Revision 4'!D89","v":0},null,{"$f":"'Revision 4'!F89","v":0}]
[null,null,null,"Ressources","Freins"]
[null,null,null,{"$f":"'Revision 4'!D91","v":0},{"$f":"'Revision 4'!E91","v":0}]
["Emploi"]
["Emploi\nScore échelle 16 :",{"$f":"INITIAL!B89","v":0},{"$f":"INITIAL!C89","v":0},{"$f":"INITIAL!D89","v":0},null,{"$f":"INITIAL!F89","v":0}]
[null,null,null,"Ressources","Freins"]
[null,null,null,{"$f":"INITIAL!D91","v":0},{"$f":"INITIAL!E91","v":0}]
["Emploi\nScore échelle 16 :",{"$f":"'Revision 1'!B89","v":0},{"$f":"'Revision 1'!C89","v":0},{"$f":"'Revision 1'!D89","v":0},null,{"$f":"'Revision 1'!F89","v":0}]
[null,null,null,"Ressources","Freins"]
[null,null,null,{"$f":"'Revision 1'!D91","v":0},{"$f":"'Revision 1'!E91","v":0}]
["Emploi\nScore échelle 16 :",{"$f":"'Revision 2'!B90","v":0},{"$f":"'Revision 2'!C90","v":0},{"$f":"'Revision 2'!D90","v":0},null,{"$f":"'Revision 2'!F90","v":0}]
[null,null,null,"Ressources","Freins"]
[null,null,null,{"$f":"'Revision 2'!D92","v":0},{"$f":"'Revision 2'!E92","v":0}]
["Emploi\nScore échelle 16 :",{"$f":"'Revision 3'!B91","v":0},{"$f":"'Revision 3'!C91","v":0},{"$f":"'Revision 3'!D91","v":0},null,{"$f":"'Revision 3'!F91","v":0}]
[null,null,null,"Ressources","Freins"]
[null,null,null,{"$f":"'Revision 3'!D93","v":0},{"$f":"'Revision 3'!E93","v":0}]
["Emploi\nScore échelle 16 :",{"$f":"'Revision 4'!B92","v":0},{"$f":"'Revision 4'!C92","v":0},{"$f":"'Revision 4'!D92","v":0},null,{"$f":"'Revision 4'!F92","v":0}]
[null,null,null,"Ressources","Freins"]
[null,null,null,{"$f":"'Revision 4'!D94","v":0},{"$f":"'Revision 4'!E94","v":0}]
["Ressenti et utilité de l'entretien"]
["Ressenti durant l'entretien"]
["Score échelle 17 : ressenti",{"$f":"INITIAL!B93","v":0},{"$f":"INITIAL!C93","v":0}]
["Score échelle 17 : ressenti",{"$f":"'Revision 1'!B93","v":0},{"$f":"'Revision 1'!C93","v":0}]
["Score échelle 17 : ressenti",{"$f":"'Revision 2'!B94","v":0},{"$f":"'Revision 2'!C94","v":0}]
["Score échelle 17 : ressenti",{"$f":"'Revision 3'!B95","v":0},{"$f":"'Revision 3'!C95","v":0}]
["Score échelle 17 : ressenti",{"$f":"'Revision 4'!B96","v":0},{"$f":"'Revision 4'!C96","v":0}]
["Utilité de l'entretien"]
["Score échelle 18 : utilité",{"$f":"INITIAL!B94","v":0},{"$f":"INITIAL!C94","v":0}]
["Score échelle 18 : utilité",{"$f":"'Revision 1'!B94","v":0},{"$f":"'Revision 1'!C94","v":0}]
["Score échelle 18 : utilité",{"$f":"'Revision 2'!B95","v":0},{"$f":"'Revision 2'!C95","v":0}]
["Score échelle 18 : utilité",{"$f":"'Revision 3'!B96","v":0},{"$f":"'Revision 3'!C96","v":0}]
["Score échelle 18 : utilité",{"$f":"'Revision 4'!B97","v":0},{"$f":"'Revision 4'!C97","v":0}]

{"sheet":"Synthese et graphique","index":8,"n_rows":23,"n_cols":15,"rows_kept":23,"cut":false,"hidden":false,"merged":[]}
[]
[null,"Coordinateur : ",{"$f":"INITIAL!B3","v":0}]
[]
[null,"Prénom:",{"$f":"INITIAL!E3","v":0}]
[null,"Nom:",{"$f":"INITIAL!E2","v":0}]
[]
[null,"durée totale du suivi PSI:",{"$f":"Recapitulatif!B4","v":0},"jours"]
[null,"=",{"$f":"Recapitulatif!B5","v":0},"semaines"]
[]
[null,null,"Initial","revision 1","revision 2","revision 3","revision 4",null,null,null,"Initial","revision 1","revision 2","revision 3","revision 4"]
[null,"HABILETES VIE QUOTIDIENNE",{"$f":"INITIAL!$E$4","v":"00:00:00"},{"$f":"'Revision 1'!$E$4","v":"00:00:00"},{"$f":"'Revision 2'!$E$4","v":"00:00:00"},{"$f":"'Revision 3'!$E$4","v":"00:00:00"},{"$f":"'Revision 4'!$E$4","v":"00:00:00"},null,null,"RELATIONS INTERPERSONNELLES",{"$f":"INITIAL!$E$4","v":"00:00:00"},{"$f":"'Revision 1'!$E$4","v":"00:00:00"},{"$f":"'Revision 2'!$E$4","v":"00:00:00"},{"$f":"'Revision 3'!$E$4","v":"00:00:00"},{"$f":"'Revision 4'!$E$4","v":"00:00:00"}]
[null,"Lieu de vie \n",{"$f":"INITIAL!B12","v":0},{"$f":"'Revision 1'!B12","v":0},{"$f":"'Revision 2'!B13","v":0},{"$f":"'Revision 3'!B14","v":0},{"$f":"'Revision 4'!B15","v":0},null,null,"Relations sociales",{"$f":"INITIAL!B58","v":0},{"$f":"'Revision 1'!B58","v":0},{"$f":"'Revision 2'!B59","v":0},{"$f":"'Revision 3'!B60","v":0},{"$f":"'Revision 4'!B61","v":0}]
[null,"Entretien logement \n",{"$f":"INITIAL!B15","v":0},{"$f":"'Revision 1'!B15","v":0},{"$f":"'Revision 2'!B16","v":0},{"$f":"'Revision 3'!B17","v":0},{"$f":"'Revision 4'!B18","v":0},null,null,"Relations amicales",{"$f":"INITIAL!B61","v":0},{"$f":"'Revision 1'!B61","v":0},{"$f":"'Revision 2'!B62","v":0},{"$f":"'Revision 3'!B63","v":0},{"$f":"'Revision 4'!B64","v":0}]
[null,"Gestion de l’argent\n",{"$f":"INITIAL!B24","v":0},{"$f":"'Revision 1'!B24","v":0},{"$f":"'Revision 2'!B25","v":0},{"$f":"'Revision 3'!B26","v":0},{"$f":"'Revision 4'!B27","v":0},null,null,"Relations sentimentales",{"$f":"INITIAL!B64","v":0},{"$f":"'Revision 1'!B64","v":0},{"$f":"'Revision 2'!B65","v":0},{"$f":"'Revision 3'!B66","v":0},{"$f":"'Revision 4'!B67","v":0}]
[null,"Gestion des papiers",{"$f":"INITIAL!B25","v":0},{"$f":"'Revision 1'!B25","v":0},{"$f":"'Revision 2'!B26","v":0},{"$f":"'Revision 3'!B27","v":0},{"$f":"'Revision 4'!B28","v":0},null,null,"Relations familiales",{"$f":"INITIAL!B67","v":0},{"$f":"'Revision 1'!B67","v":0},{"$f":"'Revision 2'!B68","v":0},{"$f":"'Revision 3'!B69","v":0},{"$f":"'Revision 4'!B70","v":0}]
[null,"Déplacements\n",{"$f":"INITIAL!B28","v":0},{"$f":"'Revision 1'!B28","v":0},{"$f":"'Revision 2'!B29","v":0},{"$f":"'Revision 3'!B30","v":0},{"$f":"'Revision 4'!B31","v":0},null,null,"Relations professionnelles/scolaires",{"$f":"INITIAL!B70","v":0},{"$f":"'Revision 1'!B70","v":0},{"$f":"'Revision 2'!B71","v":0},{"$f":"'Revision 3'!B72","v":0},{"$f":"'Revision 4'!B73","v":0}]
[]
[null,"SANTE",{"$f":"INITIAL!$E$4","v":"00:00:00"},{"$f":"'Revision 1'!$E$4","v":"00:00:00"},{"$f":"'Revision 2'!$E$4","v":"00:00:00"},{"$f":"'Revision 3'!$E$4","v":"00:00:00"},{"$f":"'Revision 4'!$E$4","v":"00:00:00"},null,null,"FORMATIONS ET EMPLOIS",{"$f":"INITIAL!$E$4","v":"00:00:00"},{"$f":"'Revision 1'!$E$4","v":"00:00:00"},{"$f":"'Revision 2'!$E$4","v":"00:00:00"},{"$f":"'Revision 3'!$E$4","v":"00:00:00"},{"$f":"'Revision 4'!$E$4","v":"00:00:00"}]
[null,"Gestion de la santé",{"$f":"INITIAL!B32","v":0},{"$f":"'Revision 1'!B32","v":0},{"$f":"'Revision 2'!B33","v":0},{"$f":"'Revision 3'!B34","v":0},{"$f":"'Revision 4'!B35","v":0},null,null,"Formations et diplômes",{"$f":"INITIAL!B86","v":0},{"$f":"'Revision 1'!B86","v":0},{"$f":"'Revision 2'!B87","v":0},{"$f":"'Revision 3'!B88","v":0},{"$f":"'Revision 4'!B89","v":0}]
[null,"Symptômes/signes cliniques",{"$f":"INITIAL!B38","v":0},{"$f":"'Revision 1'!B38","v":0},{"$f":"'Revision 2'!B39","v":0},{"$f":"'Revision 3'!B40","v":0},{"$f":"'Revision 4'!B41","v":0},null,null,"Situation professionnelle",{"$f":"INITIAL!B89","v":0},{"$f":"'Revision 1'!B89","v":0},{"$f":"'Revision 2'!B90","v":0},{"$f":"'Revision 3'!B91","v":0},{"$f":"'Revision 4'!B92","v":0}]
[]
[null,"FONCTIONNEMENT COGNITIF",{"$f":"INITIAL!$E$4","v":"00:00:00"},{"$f":"'Revision 1'!$E$4","v":"00:00:00"},{"$f":"'Revision 2'!$E$4","v":"00:00:00"},{"$f":"'Revision 3'!$E$4","v":"00:00:00"},{"$f":"'Revision 4'!$E$4","v":"00:00:00"},null,null,"LOISIRS ",{"$f":"INITIAL!$E$4","v":"00:00:00"},{"$f":"'Revision 1'!$E$4","v":"00:00:00"},{"$f":"'Revision 2'!$E$4","v":"00:00:00"},{"$f":"'Revision 3'!$E$4","v":"00:00:00"},{"$f":"'Revision 4'!$E$4","v":"00:00:00"}]
[null,"Fonctionnement cognitif",{"$f":"INITIAL!B54","v":0},{"$f":"'Revision 1'!B54","v":0},{"$f":"'Revision 2'!B55","v":0},{"$f":"'Revision 3'!B56","v":0},{"$f":"'Revision 4'!B57","v":0},null,null,"Loisirs",{"$f":"INITIAL!B82","v":0},{"$f":"'Revision 1'!B82","v":0},{"$f":"'Revision 2'!B83","v":0},{"$f":"'Revision 3'!B84","v":0},{"$f":"'Revision 4'!B85","v":0}]

{"sheet":"nepaseffacer","index":9,"n_rows":13,"n_cols":19,"rows_kept":13,"cut":false,"hidden":true,"merged":[]}
[null,1,2,3,4,5,6,7,8,9,10,11,12,13,14,15,16,17,18]
[null,"ldv","quoti","budget","admin","deplace","sannte","symptom","focogn","sociales","amicales","Santimenta","Familia","Profee","loisir","forma","emploi","ressenti","utilite"]
[null,10,10,10,10,10,10,10,10,10,10,10,10,10,10,10,10,10,10]
[null,9,9,9,9,9,9,9,9,9,9,9,9,9,9,9,9,9,9]
[null,8,8,8,8,8,8,8,8,8,8,8,8,8,8,8,8,8,8]
[null,7,7,7,7,7,7,7,7,7,7,7,7,7,7,7,7,7,7]
[null,6,6,6,6,6,6,6,6,6,6,6,6,6,6,6,6,6,6]
[null,5,5,5,5,5,5,5,5,5,5,5,5,5,5,5,5,5,5]
[null,4,4,4,4,4,4,4,4,4,4,4,4,4,4,4,4,4,4]
[null,3,3,3,3,3,3,3,3,3,3,3,3,3,3,3,3,3,3]
[null,2,2,2,2,2,2,2,2,2,2,2,2,2,2,2,2,2,2]
[null,1,1,1,1,1,1,1,1,1,1,1,1,1,1,1,1,1,1]
[null,0,0,0,0,0,0,0,0,0,0,0,0,0,0,0,0,0,0]